BEGIN:VCALENDAR
VERSION:2.0
PRODID:-//Health Capital Helsinki - ECPv6.15.20//NONSGML v1.0//EN
CALSCALE:GREGORIAN
METHOD:PUBLISH
X-ORIGINAL-URL:https://healthcapitalhelsinki.fi
X-WR-CALDESC:Events for Health Capital Helsinki
REFRESH-INTERVAL;VALUE=DURATION:PT1H
X-Robots-Tag:noindex
X-PUBLISHED-TTL:PT1H
BEGIN:VTIMEZONE
TZID:Europe/Helsinki
BEGIN:DAYLIGHT
TZOFFSETFROM:+0200
TZOFFSETTO:+0300
TZNAME:EEST
DTSTART:20210328T010000
END:DAYLIGHT
BEGIN:STANDARD
TZOFFSETFROM:+0300
TZOFFSETTO:+0200
TZNAME:EET
DTSTART:20211031T010000
END:STANDARD
BEGIN:DAYLIGHT
TZOFFSETFROM:+0200
TZOFFSETTO:+0300
TZNAME:EEST
DTSTART:20220327T010000
END:DAYLIGHT
BEGIN:STANDARD
TZOFFSETFROM:+0300
TZOFFSETTO:+0200
TZNAME:EET
DTSTART:20221030T010000
END:STANDARD
BEGIN:DAYLIGHT
TZOFFSETFROM:+0200
TZOFFSETTO:+0300
TZNAME:EEST
DTSTART:20230326T010000
END:DAYLIGHT
BEGIN:STANDARD
TZOFFSETFROM:+0300
TZOFFSETTO:+0200
TZNAME:EET
DTSTART:20231029T010000
END:STANDARD
END:VTIMEZONE
BEGIN:VEVENT
DTSTART;TZID=Europe/Helsinki:20220317T120000
DTEND;TZID=Europe/Helsinki:20220317T160000
DTSTAMP:20260420T102109
CREATED:20211214T143315Z
LAST-MODIFIED:20251006T104145Z
UID:19067-1647518400-1647532800@healthcapitalhelsinki.fi
SUMMARY:Terveysteknologian käytettävyys -valmennuspaketti (in Finnish)
DESCRIPTION:Järjestäjä: USBIMED \nMietityttävätkö terveysteknologialaitteiden ja -ohjelmistojen käyttöliittymä- ja käytettävyyssunnittelun viranomaisvaatimukset? USBIMED toteuttaa 17.3.2022 alkavan\, tuoteyrityksille\, tuotetestausympäristöille\, tutkimushankkeille ja valmistajan roolissa toimiville terveydenhuollon yksiköille suunnatun valmennuspaketin terveysteknologian käytettävyyssuunnittelusta. Käytännönläheinen\, Zoomissa toteutettava valmennus keskittyy turvallisuuteen liittyvien käytettävyystekijöiden tunnistamiseen\, riskienhallintaan ja käytettävyystestaukseen. \nValmennus koostuu kolmesta moduulista: \n\nModuuli 1\, 17.3.2022 klo 12–16: Terveysteknologian käytettävyyssuunnitteluprosessi – kokonaiskuva ja viranomaisvaatimukset\nModuuli 2\, 7.4.2022 klo 12–16: Terveysteknologian käyttöliittymät – inhimilliset tekijät ja käyttöturvallisuus\nModuuli 3\, 28.4.2022 klo 12–16: Terveysteknologian käytettävyystestaus – merkitys ja toteutus\n\nValmennuskokonaisuus on maksullinen. Ilmoittaudu mukaan 28.2.2022 mennessä! \n 
URL:https://healthcapitalhelsinki.fi/event/terveysteknologian-kaytettavyys-valmennuspaketti/
ATTACH;FMTTYPE=image/png:https://healthcapitalhelsinki.fi/wp-content/uploads/2023/01/matoli-transparent-16x9-1.png
END:VEVENT
END:VCALENDAR