BEGIN:VCALENDAR
VERSION:2.0
PRODID:-//Health Capital Helsinki - ECPv6.15.20//NONSGML v1.0//EN
CALSCALE:GREGORIAN
METHOD:PUBLISH
X-WR-CALNAME:Health Capital Helsinki
X-ORIGINAL-URL:https://healthcapitalhelsinki.fi
X-WR-CALDESC:Events for Health Capital Helsinki
REFRESH-INTERVAL;VALUE=DURATION:PT1H
X-Robots-Tag:noindex
X-PUBLISHED-TTL:PT1H
BEGIN:VTIMEZONE
TZID:Europe/Helsinki
BEGIN:DAYLIGHT
TZOFFSETFROM:+0200
TZOFFSETTO:+0300
TZNAME:EEST
DTSTART:20210328T010000
END:DAYLIGHT
BEGIN:STANDARD
TZOFFSETFROM:+0300
TZOFFSETTO:+0200
TZNAME:EET
DTSTART:20211031T010000
END:STANDARD
BEGIN:DAYLIGHT
TZOFFSETFROM:+0200
TZOFFSETTO:+0300
TZNAME:EEST
DTSTART:20220327T010000
END:DAYLIGHT
BEGIN:STANDARD
TZOFFSETFROM:+0300
TZOFFSETTO:+0200
TZNAME:EET
DTSTART:20221030T010000
END:STANDARD
BEGIN:DAYLIGHT
TZOFFSETFROM:+0200
TZOFFSETTO:+0300
TZNAME:EEST
DTSTART:20230326T010000
END:DAYLIGHT
BEGIN:STANDARD
TZOFFSETFROM:+0300
TZOFFSETTO:+0200
TZNAME:EET
DTSTART:20231029T010000
END:STANDARD
END:VTIMEZONE
BEGIN:VEVENT
DTSTART;VALUE=DATE:20220313
DTEND;VALUE=DATE:20220314
DTSTAMP:20260420T102110
CREATED:20220302T112539Z
LAST-MODIFIED:20220302T112539Z
UID:19419-1647129600-1647215999@healthcapitalhelsinki.fi
SUMMARY:Team Finland: A visit to Ageing Asia Innovation Forum
DESCRIPTION:Ageing Asia Innovation Forum (AAIF) connects business\, government and community leaders to discover and collaborate on social and economic opportunities and new innovations annually in Singapore. This year\, AAIF is hosting the World Ageing Festival\, taking place on May 24–27.  \nTeam Finland is organising a business delegation visit to Singapore on May 24–25 and additional meetings on May 26–27. Finnish companies offering services\, products and innovations especially for the senior sector – this is your opportunity for face to face meetings and networking! \nThe visit is led by Ms. Päivi Sillanaukee\, Ambassador for Health and Wellbeing\, Ministry for Foreign Affairs of Finland.  \nRead more and register by 13 March. 
URL:https://healthcapitalhelsinki.fi/event/team-finland-visit-to-ageing-asia-innovation-forum/
CATEGORIES:Opportunities
ATTACH;FMTTYPE=image/jpeg:https://healthcapitalhelsinki.fi/wp-content/uploads/2021/03/Team-finland.jpeg
END:VEVENT
END:VCALENDAR