BEGIN:VCALENDAR
VERSION:2.0
PRODID:-//Health Capital Helsinki - ECPv6.15.20//NONSGML v1.0//EN
CALSCALE:GREGORIAN
METHOD:PUBLISH
X-WR-CALNAME:Health Capital Helsinki
X-ORIGINAL-URL:https://healthcapitalhelsinki.fi
X-WR-CALDESC:Events for Health Capital Helsinki
REFRESH-INTERVAL;VALUE=DURATION:PT1H
X-Robots-Tag:noindex
X-PUBLISHED-TTL:PT1H
BEGIN:VTIMEZONE
TZID:Europe/Helsinki
BEGIN:DAYLIGHT
TZOFFSETFROM:+0200
TZOFFSETTO:+0300
TZNAME:EEST
DTSTART:20210328T010000
END:DAYLIGHT
BEGIN:STANDARD
TZOFFSETFROM:+0300
TZOFFSETTO:+0200
TZNAME:EET
DTSTART:20211031T010000
END:STANDARD
BEGIN:DAYLIGHT
TZOFFSETFROM:+0200
TZOFFSETTO:+0300
TZNAME:EEST
DTSTART:20220327T010000
END:DAYLIGHT
BEGIN:STANDARD
TZOFFSETFROM:+0300
TZOFFSETTO:+0200
TZNAME:EET
DTSTART:20221030T010000
END:STANDARD
BEGIN:DAYLIGHT
TZOFFSETFROM:+0200
TZOFFSETTO:+0300
TZNAME:EEST
DTSTART:20230326T010000
END:DAYLIGHT
BEGIN:STANDARD
TZOFFSETFROM:+0300
TZOFFSETTO:+0200
TZNAME:EET
DTSTART:20231029T010000
END:STANDARD
END:VTIMEZONE
BEGIN:VEVENT
DTSTART;TZID=Europe/Helsinki:20220310T160000
DTEND;TZID=Europe/Helsinki:20220310T180000
DTSTAMP:20260420T102111
CREATED:20220218T112918Z
LAST-MODIFIED:20220218T112918Z
UID:19377-1646928000-1646935200@healthcapitalhelsinki.fi
SUMMARY:Finland and Israel: Developing Better Healthcare with Data
DESCRIPTION:Organiser: The Embassy of Finland in Tel Aviv in partnership with Start-Up Nation Central \nFinland and Israel share a very similar structure in their healthcare systems: it is a world-class\, universal\, digitalized\, public sector driven and therefore all residents are entitled to basic health care as a fundamental right. \nBoth countries went through healthcare patient data related legislative changes in 2019 (Finland) and 2018 (Israel). Although countries have selected different data management strategies in their healthcare systems (centralized/Finland vs. decentralized/Israel)\, the learnings\, variety of data and future developments open many knowledge exchange and business opportunities for digital health companies in various fields. \nGet to know the best practices\, early experiences\, lessons learned\, and future developments of the secondary uses of medical data in a hybrid event\, organised on Thursday\, March 10 at 16:00-18:00!
URL:https://healthcapitalhelsinki.fi/event/finland-and-israel-developing-better-healthcare-with-data/
CATEGORIES:Events
ATTACH;FMTTYPE=image/jpeg:https://healthcapitalhelsinki.fi/wp-content/uploads/2022/02/Finland-and-Israel.jpeg
END:VEVENT
END:VCALENDAR