BEGIN:VCALENDAR
VERSION:2.0
PRODID:-//Health Capital Helsinki - ECPv6.15.20//NONSGML v1.0//EN
CALSCALE:GREGORIAN
METHOD:PUBLISH
X-ORIGINAL-URL:https://healthcapitalhelsinki.fi
X-WR-CALDESC:Events for Health Capital Helsinki
REFRESH-INTERVAL;VALUE=DURATION:PT1H
X-Robots-Tag:noindex
X-PUBLISHED-TTL:PT1H
BEGIN:VTIMEZONE
TZID:Europe/Helsinki
BEGIN:DAYLIGHT
TZOFFSETFROM:+0200
TZOFFSETTO:+0300
TZNAME:EEST
DTSTART:20210328T010000
END:DAYLIGHT
BEGIN:STANDARD
TZOFFSETFROM:+0300
TZOFFSETTO:+0200
TZNAME:EET
DTSTART:20211031T010000
END:STANDARD
BEGIN:DAYLIGHT
TZOFFSETFROM:+0200
TZOFFSETTO:+0300
TZNAME:EEST
DTSTART:20220327T010000
END:DAYLIGHT
BEGIN:STANDARD
TZOFFSETFROM:+0300
TZOFFSETTO:+0200
TZNAME:EET
DTSTART:20221030T010000
END:STANDARD
BEGIN:DAYLIGHT
TZOFFSETFROM:+0200
TZOFFSETTO:+0300
TZNAME:EEST
DTSTART:20230326T010000
END:DAYLIGHT
BEGIN:STANDARD
TZOFFSETFROM:+0300
TZOFFSETTO:+0200
TZNAME:EET
DTSTART:20231029T010000
END:STANDARD
END:VTIMEZONE
BEGIN:VEVENT
DTSTART;VALUE=DATE:20220308
DTEND;VALUE=DATE:20220309
DTSTAMP:20260420T102107
CREATED:20220302T104938Z
LAST-MODIFIED:20220302T104938Z
UID:19407-1646697600-1646783999@healthcapitalhelsinki.fi
SUMMARY:Team Finland: A visit to Germany with a focus on digitalisation in the German healthcare system
DESCRIPTION:Finnish health startups specialised in the hospital and outpatient environments – you now have a great opportunity to drive your market presence in Germany and gain knowledge on the local digital health and wellbeing market. \nThe Team Finland network is organising a business delegation visit to Berlin\, Germany on April 25–27. The visit agenda includes participation at the DMEA Trade Fair and Congress\, Europe\’s leading event for the digitization of healthcare\, which offers various modules of congress\, training and networking. \nThe visit is led by Dr. Päivi Sillanaukee\, Ambassador for Health and Wellbeing at the Ministry for Foreign Affairs of Finland. \nRead more and apply by 8 March.  \n 
URL:https://healthcapitalhelsinki.fi/event/team-finland-visit-to-germany/
CATEGORIES:Opportunities
ATTACH;FMTTYPE=image/jpeg:https://healthcapitalhelsinki.fi/wp-content/uploads/2021/03/Team-finland.jpeg
END:VEVENT
BEGIN:VEVENT
DTSTART;VALUE=DATE:20220308
DTEND;VALUE=DATE:20220310
DTSTAMP:20260420T102107
CREATED:20211125T183754Z
LAST-MODIFIED:20211125T183754Z
UID:18996-1646697600-1646870399@healthcapitalhelsinki.fi
SUMMARY:European Healthtech Investment Forum 2022
DESCRIPTION:The European Healthtech Investment Forum 2022 brings together healthtech companies and investors to explore the European healthtech sector and build long-lasting relations on March 8–9\, 2022! \nThe event\, organised by Business Finland and Tech Tour\, is aimed at companies seeking investments and operating in Digital Health\, Diagnostics & Medtech\, and Life Sciences & Biotech. \nCheck out the impressive line-up of 40 presenting companies and register as an investor or audience member! The company pitches are free to listen for anyone interested.
URL:https://healthcapitalhelsinki.fi/event/european-healthtech-investment-forum-2022/
CATEGORIES:Events
ATTACH;FMTTYPE=image/jpeg:https://healthcapitalhelsinki.fi/wp-content/uploads/2021/11/BF-EHIF.jpeg
END:VEVENT
END:VCALENDAR