BEGIN:VCALENDAR
VERSION:2.0
PRODID:-//Health Capital Helsinki - ECPv6.15.20//NONSGML v1.0//EN
CALSCALE:GREGORIAN
METHOD:PUBLISH
X-WR-CALNAME:Health Capital Helsinki
X-ORIGINAL-URL:https://healthcapitalhelsinki.fi
X-WR-CALDESC:Events for Health Capital Helsinki
REFRESH-INTERVAL;VALUE=DURATION:PT1H
X-Robots-Tag:noindex
X-PUBLISHED-TTL:PT1H
BEGIN:VTIMEZONE
TZID:Europe/Helsinki
BEGIN:DAYLIGHT
TZOFFSETFROM:+0200
TZOFFSETTO:+0300
TZNAME:EEST
DTSTART:20210328T010000
END:DAYLIGHT
BEGIN:STANDARD
TZOFFSETFROM:+0300
TZOFFSETTO:+0200
TZNAME:EET
DTSTART:20211031T010000
END:STANDARD
BEGIN:DAYLIGHT
TZOFFSETFROM:+0200
TZOFFSETTO:+0300
TZNAME:EEST
DTSTART:20220327T010000
END:DAYLIGHT
BEGIN:STANDARD
TZOFFSETFROM:+0300
TZOFFSETTO:+0200
TZNAME:EET
DTSTART:20221030T010000
END:STANDARD
BEGIN:DAYLIGHT
TZOFFSETFROM:+0200
TZOFFSETTO:+0300
TZNAME:EEST
DTSTART:20230326T010000
END:DAYLIGHT
BEGIN:STANDARD
TZOFFSETFROM:+0300
TZOFFSETTO:+0200
TZNAME:EET
DTSTART:20231029T010000
END:STANDARD
END:VTIMEZONE
BEGIN:VEVENT
DTSTART;TZID=Europe/Helsinki:20220301T080000
DTEND;TZID=Europe/Helsinki:20220301T090000
DTSTAMP:20260420T102050
CREATED:20220204T124057Z
LAST-MODIFIED:20220204T124057Z
UID:19279-1646121600-1646125200@healthcapitalhelsinki.fi
SUMMARY:Health Tuesday: Changing the world with vaccine innovations
DESCRIPTION:Organiser: Business Finland \nThe history of vaccine development has seen many great achievements and also Finland has a long history of successful vaccine research and development. Join Business Finland’s Health Tuesday event to hear the latest news on vaccine research in Finland! \nThe speakers of the event include Mika Rämet (University of Tampere)\, Arto Palmu (Finnish Institute for Health and Welfare\, THL) and Tuija Keinonen and Erkko Ylösmäki (Rokote Laboratories Finland Oy). \n 
URL:https://healthcapitalhelsinki.fi/event/health-tuesday-changing-the-world-with-vaccine-innovations/
CATEGORIES:Events
ATTACH;FMTTYPE=image/png:https://healthcapitalhelsinki.fi/wp-content/uploads/2022/02/Nayttokuva-2022-02-04-kello-12.39.48.png
END:VEVENT
END:VCALENDAR