BEGIN:VCALENDAR
VERSION:2.0
PRODID:-//Health Capital Helsinki - ECPv6.15.20//NONSGML v1.0//EN
CALSCALE:GREGORIAN
METHOD:PUBLISH
X-ORIGINAL-URL:https://healthcapitalhelsinki.fi
X-WR-CALDESC:Events for Health Capital Helsinki
REFRESH-INTERVAL;VALUE=DURATION:PT1H
X-Robots-Tag:noindex
X-PUBLISHED-TTL:PT1H
BEGIN:VTIMEZONE
TZID:Europe/Helsinki
BEGIN:DAYLIGHT
TZOFFSETFROM:+0200
TZOFFSETTO:+0300
TZNAME:EEST
DTSTART:20210328T010000
END:DAYLIGHT
BEGIN:STANDARD
TZOFFSETFROM:+0300
TZOFFSETTO:+0200
TZNAME:EET
DTSTART:20211031T010000
END:STANDARD
BEGIN:DAYLIGHT
TZOFFSETFROM:+0200
TZOFFSETTO:+0300
TZNAME:EEST
DTSTART:20220327T010000
END:DAYLIGHT
BEGIN:STANDARD
TZOFFSETFROM:+0300
TZOFFSETTO:+0200
TZNAME:EET
DTSTART:20221030T010000
END:STANDARD
BEGIN:DAYLIGHT
TZOFFSETFROM:+0200
TZOFFSETTO:+0300
TZNAME:EEST
DTSTART:20230326T010000
END:DAYLIGHT
BEGIN:STANDARD
TZOFFSETFROM:+0300
TZOFFSETTO:+0200
TZNAME:EET
DTSTART:20231029T010000
END:STANDARD
END:VTIMEZONE
BEGIN:VEVENT
DTSTART;VALUE=DATE:20220228
DTEND;VALUE=DATE:20220301
DTSTAMP:20260420T102108
CREATED:20220216T100933Z
LAST-MODIFIED:20220216T100933Z
UID:19343-1646006400-1646092799@healthcapitalhelsinki.fi
SUMMARY:HIMSS22Europe calls for startups to showcase
DESCRIPTION:HIMSS is looking for new and innovative technologies from startups to showcase within the programme of the 2022 HIMSS European Health Conference & Exhibition\, taking place 14-16 June 2022 in Helsinki\, Finland. \nHave you got an innovative technology to showcase? This is a unique opportunity to gain valuable exposure across the healthcare ecosystem. Submission deadline is 28 February\, so act fast! \nHIMSS22 Europe is the can’t-miss health information and technology event of the year\, where professionals throughout the European health ecosystem get connected. Read more.
URL:https://healthcapitalhelsinki.fi/event/himss22europe-calls-for-startups-to-showcase/
CATEGORIES:Opportunities
ATTACH;FMTTYPE=image/jpeg:https://healthcapitalhelsinki.fi/wp-content/uploads/2022/02/HIMSS22-calling-startups.jpeg
END:VEVENT
END:VCALENDAR