BEGIN:VCALENDAR
VERSION:2.0
PRODID:-//Health Capital Helsinki - ECPv6.15.20//NONSGML v1.0//EN
CALSCALE:GREGORIAN
METHOD:PUBLISH
X-WR-CALNAME:Health Capital Helsinki
X-ORIGINAL-URL:https://healthcapitalhelsinki.fi
X-WR-CALDESC:Events for Health Capital Helsinki
REFRESH-INTERVAL;VALUE=DURATION:PT1H
X-Robots-Tag:noindex
X-PUBLISHED-TTL:PT1H
BEGIN:VTIMEZONE
TZID:Europe/Helsinki
BEGIN:DAYLIGHT
TZOFFSETFROM:+0200
TZOFFSETTO:+0300
TZNAME:EEST
DTSTART:20210328T010000
END:DAYLIGHT
BEGIN:STANDARD
TZOFFSETFROM:+0300
TZOFFSETTO:+0200
TZNAME:EET
DTSTART:20211031T010000
END:STANDARD
BEGIN:DAYLIGHT
TZOFFSETFROM:+0200
TZOFFSETTO:+0300
TZNAME:EEST
DTSTART:20220327T010000
END:DAYLIGHT
BEGIN:STANDARD
TZOFFSETFROM:+0300
TZOFFSETTO:+0200
TZNAME:EET
DTSTART:20221030T010000
END:STANDARD
BEGIN:DAYLIGHT
TZOFFSETFROM:+0200
TZOFFSETTO:+0300
TZNAME:EEST
DTSTART:20230326T010000
END:DAYLIGHT
BEGIN:STANDARD
TZOFFSETFROM:+0300
TZOFFSETTO:+0200
TZNAME:EET
DTSTART:20231029T010000
END:STANDARD
END:VTIMEZONE
BEGIN:VEVENT
DTSTART;TZID=Europe/Helsinki:20220218T100000
DTEND;TZID=Europe/Helsinki:20220218T110000
DTSTAMP:20260420T114057
CREATED:20220211T111105Z
LAST-MODIFIED:20220211T111105Z
UID:19317-1645178400-1645182000@healthcapitalhelsinki.fi
SUMMARY:Health Talks webinar – Lab Testing: Facilities and Environments
DESCRIPTION:Organiser: Aalto University\, Health Design\, Health Hub Tampere\, HealthTurku\, HiLIFE\, Kuopio Health\, OuluHealth\, Terkko Health Hub\, Upgraded – Health Startup Association of Finland\, Laurea Entrepreneurship Society\, Metropolia Entrepreneurship Society and Xes Helsinki \nWhat are the lab testing environments where today’s challenges are solved? During the next Health Talks webinar\, this time hosted by Kuopio Health and HiLIFE\, you will learn about some of the infrastructure supporting and providing opportunities for cutting-edge research. Olli Silvennoinen from Biocenter Finland\, Katja Kivinen from HiLIFE and Matti Iso-Mustajärvi from the Microsurgery Center of Eastern Finland will present to you the facilities that enable innovation.  \nJoin the event – free of charge – online on February 18 at 10–11! \n 
URL:https://healthcapitalhelsinki.fi/event/health-talks-lab-testing/
CATEGORIES:Events
ATTACH;FMTTYPE=image/jpeg:https://healthcapitalhelsinki.fi/wp-content/uploads/2022/02/Health-Talks_Lab-testing.jpeg
END:VEVENT
END:VCALENDAR