BEGIN:VCALENDAR
VERSION:2.0
PRODID:-//Health Capital Helsinki - ECPv6.15.20//NONSGML v1.0//EN
CALSCALE:GREGORIAN
METHOD:PUBLISH
X-ORIGINAL-URL:https://healthcapitalhelsinki.fi
X-WR-CALDESC:Events for Health Capital Helsinki
REFRESH-INTERVAL;VALUE=DURATION:PT1H
X-Robots-Tag:noindex
X-PUBLISHED-TTL:PT1H
BEGIN:VTIMEZONE
TZID:Europe/Helsinki
BEGIN:DAYLIGHT
TZOFFSETFROM:+0200
TZOFFSETTO:+0300
TZNAME:EEST
DTSTART:20210328T010000
END:DAYLIGHT
BEGIN:STANDARD
TZOFFSETFROM:+0300
TZOFFSETTO:+0200
TZNAME:EET
DTSTART:20211031T010000
END:STANDARD
BEGIN:DAYLIGHT
TZOFFSETFROM:+0200
TZOFFSETTO:+0300
TZNAME:EEST
DTSTART:20220327T010000
END:DAYLIGHT
BEGIN:STANDARD
TZOFFSETFROM:+0300
TZOFFSETTO:+0200
TZNAME:EET
DTSTART:20221030T010000
END:STANDARD
BEGIN:DAYLIGHT
TZOFFSETFROM:+0200
TZOFFSETTO:+0300
TZNAME:EEST
DTSTART:20230326T010000
END:DAYLIGHT
BEGIN:STANDARD
TZOFFSETFROM:+0300
TZOFFSETTO:+0200
TZNAME:EET
DTSTART:20231029T010000
END:STANDARD
END:VTIMEZONE
BEGIN:VEVENT
DTSTART;TZID=Europe/Helsinki:20220209T080000
DTEND;TZID=Europe/Helsinki:20220209T093000
DTSTAMP:20260420T114113
CREATED:20211119T144822Z
LAST-MODIFIED:20211119T144822Z
UID:18971-1644393600-1644399000@healthcapitalhelsinki.fi
SUMMARY:Huipputeknologia ja digitalisaatio terveydenhuollossa: vaikuttavuuden hankinta (In Finnish)
DESCRIPTION:Järjestäjä: Health Capital Helsinki\, Helsinki Partners ja Sailab – MedTech Finland ry \nMiten terveysteknologian vaikuttavuutta voidaan mitata? Miten vaikuttavuudesta viestitään niin\, että sitä voidaan käyttää pätevänä mittarina julkisissa hankinnoissa? Mihin tulee kiinnittää erityishuomiota\, kun tehdään vaikuttavuuteen perustuvia hankintoja?  \nTervetuloa keskustelemaan julkisista hankinnoista ja niiden kehittämisestä kaikille avoimeen ja maksuttomaan seminaarin 9.2.2022 klo 8.00! Tilaisuuden puhujina toimivat Laura Pitkänen (Valtiovarainministeriö)\, Petra Falkenbach (FinCCHTA)  ja Minna Väänänen (Fresenius Medical Care). \nTapahtuma on osa Health Capital Helsingin\, Helsinki Partnersin ja Sailab – MedTech Finland ry:n syksyllä 2021 alkanutta seminaarisarjaa. \nTilaisuus on avoin kaikille kiinnostuneille. Liity mukaan tilaisuuteen linkistä Sailabin sivuilta (ei ennakkoilmoittautumista).
URL:https://healthcapitalhelsinki.fi/event/huipputeknologia-ja-digitalisaatio-terveydenhuollossa-vaikuttavuuden-hankinta/
CATEGORIES:Events
ATTACH;FMTTYPE=image/png:https://healthcapitalhelsinki.fi/wp-content/uploads/2021/11/Nayttokuva-2021-11-19-kello-14.50.17.png
END:VEVENT
END:VCALENDAR