BEGIN:VCALENDAR
VERSION:2.0
PRODID:-//Health Capital Helsinki - ECPv6.15.20//NONSGML v1.0//EN
CALSCALE:GREGORIAN
METHOD:PUBLISH
X-WR-CALNAME:Health Capital Helsinki
X-ORIGINAL-URL:https://healthcapitalhelsinki.fi
X-WR-CALDESC:Events for Health Capital Helsinki
REFRESH-INTERVAL;VALUE=DURATION:PT1H
X-Robots-Tag:noindex
X-PUBLISHED-TTL:PT1H
BEGIN:VTIMEZONE
TZID:Europe/Helsinki
BEGIN:DAYLIGHT
TZOFFSETFROM:+0200
TZOFFSETTO:+0300
TZNAME:EEST
DTSTART:20210328T010000
END:DAYLIGHT
BEGIN:STANDARD
TZOFFSETFROM:+0300
TZOFFSETTO:+0200
TZNAME:EET
DTSTART:20211031T010000
END:STANDARD
BEGIN:DAYLIGHT
TZOFFSETFROM:+0200
TZOFFSETTO:+0300
TZNAME:EEST
DTSTART:20220327T010000
END:DAYLIGHT
BEGIN:STANDARD
TZOFFSETFROM:+0300
TZOFFSETTO:+0200
TZNAME:EET
DTSTART:20221030T010000
END:STANDARD
BEGIN:DAYLIGHT
TZOFFSETFROM:+0200
TZOFFSETTO:+0300
TZNAME:EEST
DTSTART:20230326T010000
END:DAYLIGHT
BEGIN:STANDARD
TZOFFSETFROM:+0300
TZOFFSETTO:+0200
TZNAME:EET
DTSTART:20231029T010000
END:STANDARD
END:VTIMEZONE
BEGIN:VEVENT
DTSTART;VALUE=DATE:20220206
DTEND;VALUE=DATE:20220207
DTSTAMP:20260420T114059
CREATED:20211220T134533Z
LAST-MODIFIED:20211220T134533Z
UID:19124-1644105600-1644191999@healthcapitalhelsinki.fi
SUMMARY:90 Day Finn programme
DESCRIPTION:Hey investors\, founders\, and techies\, apply to become a 90 Day Finn by 6 February 2022! The popular program\, organised by Helsinki Partners\, is now open for applications. \nExperience life and work in Helsinki\, the capital of the world’s happiest country. Take this chance to immerse yourself in one of the most innovative business ecosystems and one of the most sustainable cities on the planet. \nHelsinki Partners will choose fifteen participants to move to Helsinki in August 2022. Read more and apply now!
URL:https://healthcapitalhelsinki.fi/event/90-day-finn-programme/
CATEGORIES:Opportunities
ATTACH;FMTTYPE=image/jpeg:https://healthcapitalhelsinki.fi/wp-content/uploads/2021/12/H365_2019_0469_Jussi_Hellsten-w1000.jpg
END:VEVENT
END:VCALENDAR