BEGIN:VCALENDAR
VERSION:2.0
PRODID:-//Health Capital Helsinki - ECPv6.15.20//NONSGML v1.0//EN
CALSCALE:GREGORIAN
METHOD:PUBLISH
X-ORIGINAL-URL:https://healthcapitalhelsinki.fi
X-WR-CALDESC:Events for Health Capital Helsinki
REFRESH-INTERVAL;VALUE=DURATION:PT1H
X-Robots-Tag:noindex
X-PUBLISHED-TTL:PT1H
BEGIN:VTIMEZONE
TZID:Europe/Helsinki
BEGIN:DAYLIGHT
TZOFFSETFROM:+0200
TZOFFSETTO:+0300
TZNAME:EEST
DTSTART:20210328T010000
END:DAYLIGHT
BEGIN:STANDARD
TZOFFSETFROM:+0300
TZOFFSETTO:+0200
TZNAME:EET
DTSTART:20211031T010000
END:STANDARD
BEGIN:DAYLIGHT
TZOFFSETFROM:+0200
TZOFFSETTO:+0300
TZNAME:EEST
DTSTART:20220327T010000
END:DAYLIGHT
BEGIN:STANDARD
TZOFFSETFROM:+0300
TZOFFSETTO:+0200
TZNAME:EET
DTSTART:20221030T010000
END:STANDARD
BEGIN:DAYLIGHT
TZOFFSETFROM:+0200
TZOFFSETTO:+0300
TZNAME:EEST
DTSTART:20230326T010000
END:DAYLIGHT
BEGIN:STANDARD
TZOFFSETFROM:+0300
TZOFFSETTO:+0200
TZNAME:EET
DTSTART:20231029T010000
END:STANDARD
END:VTIMEZONE
BEGIN:VEVENT
DTSTART;TZID=Europe/Helsinki:20220127T110000
DTEND;TZID=Europe/Helsinki:20220127T150000
DTSTAMP:20260420T125702
CREATED:20220114T112022Z
LAST-MODIFIED:20220114T112022Z
UID:19173-1643281200-1643295600@healthcapitalhelsinki.fi
SUMMARY:Funding journey: From research to commercialization
DESCRIPTION:Organiser: Health Capital Helsinki and BioInnovation Institute \nWhat the key players of the Nordic life science ecosystem has to offer in terms of programs\, funding and collaboration? What do the funding institutions look for when they explore which early-stage life science projects to fund? \nThese questions will be addressed in a free online event\, organised by Health Capital Helsinki and BioInnovation Institute\, based in Denmark on 27 January\, 11:00-15:00 (EET). In addition to listening to inspiring presentations and case stories\, you have a unique opportunity to book 1:1 meetings with representatives of Novo Nordisk Foundation\, BioInnovation Institute and Eir Ventures. \nSign up for presentations here and for 1:1 meetings here. \nPlease make sure to sign up for both parts separately.
URL:https://healthcapitalhelsinki.fi/event/funding-journey-event/
CATEGORIES:Events
END:VEVENT
END:VCALENDAR