BEGIN:VCALENDAR
VERSION:2.0
PRODID:-//Health Capital Helsinki - ECPv6.15.20//NONSGML v1.0//EN
CALSCALE:GREGORIAN
METHOD:PUBLISH
X-WR-CALNAME:Health Capital Helsinki
X-ORIGINAL-URL:https://healthcapitalhelsinki.fi
X-WR-CALDESC:Events for Health Capital Helsinki
REFRESH-INTERVAL;VALUE=DURATION:PT1H
X-Robots-Tag:noindex
X-PUBLISHED-TTL:PT1H
BEGIN:VTIMEZONE
TZID:Europe/Helsinki
BEGIN:DAYLIGHT
TZOFFSETFROM:+0200
TZOFFSETTO:+0300
TZNAME:EEST
DTSTART:20210328T010000
END:DAYLIGHT
BEGIN:STANDARD
TZOFFSETFROM:+0300
TZOFFSETTO:+0200
TZNAME:EET
DTSTART:20211031T010000
END:STANDARD
BEGIN:DAYLIGHT
TZOFFSETFROM:+0200
TZOFFSETTO:+0300
TZNAME:EEST
DTSTART:20220327T010000
END:DAYLIGHT
BEGIN:STANDARD
TZOFFSETFROM:+0300
TZOFFSETTO:+0200
TZNAME:EET
DTSTART:20221030T010000
END:STANDARD
BEGIN:DAYLIGHT
TZOFFSETFROM:+0200
TZOFFSETTO:+0300
TZNAME:EEST
DTSTART:20230326T010000
END:DAYLIGHT
BEGIN:STANDARD
TZOFFSETFROM:+0300
TZOFFSETTO:+0200
TZNAME:EET
DTSTART:20231029T010000
END:STANDARD
END:VTIMEZONE
BEGIN:VEVENT
DTSTART;VALUE=DATE:20220110
DTEND;VALUE=DATE:20220111
DTSTAMP:20260420T131445
CREATED:20211220T124913Z
LAST-MODIFIED:20211220T124913Z
UID:19099-1641772800-1641859199@healthcapitalhelsinki.fi
SUMMARY:Helsinki Female Tech Founder Frontrunner
DESCRIPTION:Are you a female founder or entrepreneur ready to kick-start your business in 2022? \nThe Helsinki Female Tech Founder Frontrunner program is aimed at highly motivated women in the digital/tech space\, with an entrepreneurial and growth mindset\, passion and drive to bring their business ideas to life and/or grow their digital/tech startups/scaleups. Specifically\, it is for current and planned female tech founders in Helsinki/Finland. \nThe 6-month high-impact program\, starting in February 2022\, includes hands-on mentoring\, skills development\, and access to experts and networks. \nRead more and apply by 10 January 2022!
URL:https://healthcapitalhelsinki.fi/event/helsinki-female-tech-founder-frontrunner/
CATEGORIES:Opportunities
ATTACH;FMTTYPE=image/jpeg:https://healthcapitalhelsinki.fi/wp-content/uploads/2021/12/FinTrangleCompressed-1.jpeg
END:VEVENT
END:VCALENDAR