BEGIN:VCALENDAR
VERSION:2.0
PRODID:-//Health Capital Helsinki - ECPv6.15.20//NONSGML v1.0//EN
CALSCALE:GREGORIAN
METHOD:PUBLISH
X-WR-CALNAME:Health Capital Helsinki
X-ORIGINAL-URL:https://healthcapitalhelsinki.fi
X-WR-CALDESC:Events for Health Capital Helsinki
REFRESH-INTERVAL;VALUE=DURATION:PT1H
X-Robots-Tag:noindex
X-PUBLISHED-TTL:PT1H
BEGIN:VTIMEZONE
TZID:Europe/Helsinki
BEGIN:DAYLIGHT
TZOFFSETFROM:+0200
TZOFFSETTO:+0300
TZNAME:EEST
DTSTART:20200329T010000
END:DAYLIGHT
BEGIN:STANDARD
TZOFFSETFROM:+0300
TZOFFSETTO:+0200
TZNAME:EET
DTSTART:20201025T010000
END:STANDARD
BEGIN:DAYLIGHT
TZOFFSETFROM:+0200
TZOFFSETTO:+0300
TZNAME:EEST
DTSTART:20210328T010000
END:DAYLIGHT
BEGIN:STANDARD
TZOFFSETFROM:+0300
TZOFFSETTO:+0200
TZNAME:EET
DTSTART:20211031T010000
END:STANDARD
BEGIN:DAYLIGHT
TZOFFSETFROM:+0200
TZOFFSETTO:+0300
TZNAME:EEST
DTSTART:20220327T010000
END:DAYLIGHT
BEGIN:STANDARD
TZOFFSETFROM:+0300
TZOFFSETTO:+0200
TZNAME:EET
DTSTART:20221030T010000
END:STANDARD
END:VTIMEZONE
BEGIN:VEVENT
DTSTART;TZID=Europe/Helsinki:20211216T090000
DTEND;TZID=Europe/Helsinki:20211216T103000
DTSTAMP:20260420T141422
CREATED:20211102T123543Z
LAST-MODIFIED:20211102T123543Z
UID:18750-1639645200-1639650600@healthcapitalhelsinki.fi
SUMMARY:Tekoäly töissä -webinaarisarja: Teknologiamurroksen johtaminen luovasti ja innoittavasti. Luovat menetelmät tekoälyratkaisujen tukena (in Finnish)
DESCRIPTION:Järjestäjä: AI-TIE – Tekoälyinnovaatioekosysteemillä kilpailukykyä PK-yrityksille -hanke \nTekoäly lupaa paljon\, mutta miten voit ottaa käyttöön tekoälyn mahdollisuudet yrityksesi toiminnassa? Ilmoittaudu maksuttomaan webinaarisarjaan keskustelemaan aiheesta ja kuulemaan uutta! \nTekoäly töissä -webinaarisarjan viimeisessä osassa pääset toteuttamaan kuvallisen SWOT:in\, jonka avulla saat työkaluja: \n\nsisäisten heikkouksien ja vahvuuksien tunnistamiseen tekoälyn käyttöönottoon ja soveltamiseen liittyen\nulkoisten uhkien ja mahdollisuuksien havainnointiin\nmuuttamaan uhat mahdollisuuksiksi ja itsestäänselvyydet heikkouksiksi\nkonseptointiin ja yhteissuunnitteluun.\n\nIlmoittautuminen webinaariin päättyy 14.12.
URL:https://healthcapitalhelsinki.fi/event/tekoaly-toissa-webinaarisarja-teknologiamurroksen-johtaminen-luovasti-ja-innostavasti-luovat-menetelmat-tekoalyratkaisujen-tukena/
CATEGORIES:Events
ATTACH;FMTTYPE=image/png:https://healthcapitalhelsinki.fi/wp-content/uploads/2021/11/Nayttokuva-2021-11-02-kello-11.59.20.png
END:VEVENT
END:VCALENDAR