BEGIN:VCALENDAR
VERSION:2.0
PRODID:-//Health Capital Helsinki - ECPv6.15.20//NONSGML v1.0//EN
CALSCALE:GREGORIAN
METHOD:PUBLISH
X-ORIGINAL-URL:https://healthcapitalhelsinki.fi
X-WR-CALDESC:Events for Health Capital Helsinki
REFRESH-INTERVAL;VALUE=DURATION:PT1H
X-Robots-Tag:noindex
X-PUBLISHED-TTL:PT1H
BEGIN:VTIMEZONE
TZID:Europe/Helsinki
BEGIN:DAYLIGHT
TZOFFSETFROM:+0200
TZOFFSETTO:+0300
TZNAME:EEST
DTSTART:20200329T010000
END:DAYLIGHT
BEGIN:STANDARD
TZOFFSETFROM:+0300
TZOFFSETTO:+0200
TZNAME:EET
DTSTART:20201025T010000
END:STANDARD
BEGIN:DAYLIGHT
TZOFFSETFROM:+0200
TZOFFSETTO:+0300
TZNAME:EEST
DTSTART:20210328T010000
END:DAYLIGHT
BEGIN:STANDARD
TZOFFSETFROM:+0300
TZOFFSETTO:+0200
TZNAME:EET
DTSTART:20211031T010000
END:STANDARD
BEGIN:DAYLIGHT
TZOFFSETFROM:+0200
TZOFFSETTO:+0300
TZNAME:EEST
DTSTART:20220327T010000
END:DAYLIGHT
BEGIN:STANDARD
TZOFFSETFROM:+0300
TZOFFSETTO:+0200
TZNAME:EET
DTSTART:20221030T010000
END:STANDARD
END:VTIMEZONE
BEGIN:VEVENT
DTSTART;TZID=Europe/Helsinki:20211215T140000
DTEND;TZID=Europe/Helsinki:20211215T170000
DTSTAMP:20260420T141457
CREATED:20211108T124816Z
LAST-MODIFIED:20211108T124816Z
UID:18810-1639576800-1639587600@healthcapitalhelsinki.fi
SUMMARY:FinEst Health Economy Demo Day
DESCRIPTION:Organisers: Health Incubator Helsinki and Health Founders (Estonia) \nWelcome to Finnish-Estonian Health Economy Demo Day\, showcasing the rising stars of the cross-boundary health innovation ecosystem! \nIn this online event\, 9 promising health tech startups from Finland and Estonia will pitch for investors followed by a panel discussion with investors\, and finally announcing the winning pitches of the day. The event is specifically aimed towards investors but open for anyone interested – save the date and sign up now!
URL:https://healthcapitalhelsinki.fi/event/finest-health-economy-demo-day/
CATEGORIES:Events
ATTACH;FMTTYPE=image/jpeg:https://healthcapitalhelsinki.fi/wp-content/uploads/2021/11/FinEst-Health-DemoDay-2021.jpeg
END:VEVENT
END:VCALENDAR