BEGIN:VCALENDAR
VERSION:2.0
PRODID:-//Health Capital Helsinki - ECPv6.15.20//NONSGML v1.0//EN
CALSCALE:GREGORIAN
METHOD:PUBLISH
X-ORIGINAL-URL:https://healthcapitalhelsinki.fi
X-WR-CALDESC:Events for Health Capital Helsinki
REFRESH-INTERVAL;VALUE=DURATION:PT1H
X-Robots-Tag:noindex
X-PUBLISHED-TTL:PT1H
BEGIN:VTIMEZONE
TZID:Europe/Helsinki
BEGIN:DAYLIGHT
TZOFFSETFROM:+0200
TZOFFSETTO:+0300
TZNAME:EEST
DTSTART:20200329T010000
END:DAYLIGHT
BEGIN:STANDARD
TZOFFSETFROM:+0300
TZOFFSETTO:+0200
TZNAME:EET
DTSTART:20201025T010000
END:STANDARD
BEGIN:DAYLIGHT
TZOFFSETFROM:+0200
TZOFFSETTO:+0300
TZNAME:EEST
DTSTART:20210328T010000
END:DAYLIGHT
BEGIN:STANDARD
TZOFFSETFROM:+0300
TZOFFSETTO:+0200
TZNAME:EET
DTSTART:20211031T010000
END:STANDARD
BEGIN:DAYLIGHT
TZOFFSETFROM:+0200
TZOFFSETTO:+0300
TZNAME:EEST
DTSTART:20220327T010000
END:DAYLIGHT
BEGIN:STANDARD
TZOFFSETFROM:+0300
TZOFFSETTO:+0200
TZNAME:EET
DTSTART:20221030T010000
END:STANDARD
END:VTIMEZONE
BEGIN:VEVENT
DTSTART;VALUE=DATE:20211201
DTEND;VALUE=DATE:20211203
DTSTAMP:20260420T141458
CREATED:20211008T122236Z
LAST-MODIFIED:20211008T122236Z
UID:18536-1638316800-1638489599@healthcapitalhelsinki.fi
SUMMARY:Slush 2021
DESCRIPTION:Organiser: Slush \nSlush 2021 brings together the world’s leading founders\, investors\, executives\, and media for a curated gathering of 8\,000 attendees at the Helsinki Expo and Convention Center. The event\, taking place on December 1–2\, offers startups a unique opportunity to meet potential investors and receive concrete advice from the most accomplished founders\, experienced operators\, and successful investors. 
URL:https://healthcapitalhelsinki.fi/event/slush-2021/
CATEGORIES:Events
ATTACH;FMTTYPE=image/png:https://healthcapitalhelsinki.fi/wp-content/uploads/2021/10/Slush-2021.png
END:VEVENT
BEGIN:VEVENT
DTSTART;TZID=Europe/Helsinki:20211201T120000
DTEND;TZID=Europe/Helsinki:20211201T160000
DTSTAMP:20260420T141458
CREATED:20210813T121515Z
LAST-MODIFIED:20210813T121515Z
UID:17921-1638360000-1638374400@healthcapitalhelsinki.fi
SUMMARY:Y Science 2021 - Slush Official Side Event for Life Sciences
DESCRIPTION:Organiser: HiLife\, SynBio Powerhouse and VTT\, Health Capital Helsinki\, Viikki Food Design Factory \nY Science brings together the curious scientific community and the business world to inspire concrete action and contribution to the society in the field of life sciences. Through a program full of exciting talks and startup pitches\, Y Science will promote the value of the science-based business and encourage scientists to embrace a different way of thinking about impact. The event offers also a great opportunity to network with other attendees and set up meetings using Y Science\’s own matchmaking app. \nThe program is divided into the following sessions\, each with its own pitching competition: \n\n\nHealth and pharma \n\n\nBiotech\, synbio\, and sustainability \n\n\nFoodtech and agritech \n\n\nThe event is organised hybrid\, allowing participants to attend it in person or virtually. Attendance is free-of-charge\, but requires registration. No Slush ticket is required\, EU Digital Covid Certificate is required. \nRegister now!
URL:https://healthcapitalhelsinki.fi/event/y-science/
CATEGORIES:Events
ATTACH;FMTTYPE=image/png:https://healthcapitalhelsinki.fi/wp-content/uploads/2021/08/Nayttokuva-2021-08-13-kello-12.14.34.png
END:VEVENT
BEGIN:VEVENT
DTSTART;TZID=Europe/Helsinki:20211201T130000
DTEND;TZID=Europe/Helsinki:20211201T160000
DTSTAMP:20260420T141458
CREATED:20211005T142223Z
LAST-MODIFIED:20211005T142223Z
UID:18494-1638363600-1638374400@healthcapitalhelsinki.fi
SUMMARY:Fingenious-ekosysteemitapahtuma (in Finnish)
DESCRIPTION:Järjestäjä: THL ja Biopankkien Osuuskunta Suomi – FINBB \nLisää terveys- ja biolääketieteellistä tutkimusta Suomeen \nTapahtuma tuo yhteen biopankki-\, rekisteri- ja kliinisen tutkimuksen tekijöitä ja mahdollistajia. Tavoitteena on lisätä terveys- ja biolääketieteellisen tutkimuksen mahdollisuuksia Suomessa ja käydä avointa keskustelua aiheesta. Tapahtuma on kaikille avoin.
URL:https://healthcapitalhelsinki.fi/event/fingenious-ekosysteemitapahtuma-in-finnish/
CATEGORIES:Events
ATTACH;FMTTYPE=image/png:https://healthcapitalhelsinki.fi/wp-content/uploads/2021/10/Screenshot-2021-10-05-at-14.20.59.png
END:VEVENT
BEGIN:VEVENT
DTSTART;TZID=Europe/Helsinki:20211201T170000
DTEND;TZID=Europe/Helsinki:20211201T200000
DTSTAMP:20260420T141458
CREATED:20211026T143816Z
LAST-MODIFIED:20211026T143816Z
UID:18690-1638378000-1638388800@healthcapitalhelsinki.fi
SUMMARY:Unicorner - Slush Official Side Event
DESCRIPTION:Organiser: The University of Helsinki and Helsinki Innovation Services \nScience-based innovations and spinouts have the proven potential to become hugely successful businesses that truly change the world – as well as the future of those who believed and invested in them early on.  \nRegister for Unicorner\, an official side event of Slush\, to hear twelve inspiring science cases and share insights on how to make research-based innovations flourish.
URL:https://healthcapitalhelsinki.fi/event/unicorner/
CATEGORIES:Events
ATTACH;FMTTYPE=image/jpeg:https://healthcapitalhelsinki.fi/wp-content/uploads/2021/11/Unicorner-1-Dec-500x300-1.jpg
END:VEVENT
END:VCALENDAR