BEGIN:VCALENDAR
VERSION:2.0
PRODID:-//Health Capital Helsinki - ECPv6.15.20//NONSGML v1.0//EN
CALSCALE:GREGORIAN
METHOD:PUBLISH
X-ORIGINAL-URL:https://healthcapitalhelsinki.fi
X-WR-CALDESC:Events for Health Capital Helsinki
REFRESH-INTERVAL;VALUE=DURATION:PT1H
X-Robots-Tag:noindex
X-PUBLISHED-TTL:PT1H
BEGIN:VTIMEZONE
TZID:Europe/Helsinki
BEGIN:DAYLIGHT
TZOFFSETFROM:+0200
TZOFFSETTO:+0300
TZNAME:EEST
DTSTART:20200329T010000
END:DAYLIGHT
BEGIN:STANDARD
TZOFFSETFROM:+0300
TZOFFSETTO:+0200
TZNAME:EET
DTSTART:20201025T010000
END:STANDARD
BEGIN:DAYLIGHT
TZOFFSETFROM:+0200
TZOFFSETTO:+0300
TZNAME:EEST
DTSTART:20210328T010000
END:DAYLIGHT
BEGIN:STANDARD
TZOFFSETFROM:+0300
TZOFFSETTO:+0200
TZNAME:EET
DTSTART:20211031T010000
END:STANDARD
BEGIN:DAYLIGHT
TZOFFSETFROM:+0200
TZOFFSETTO:+0300
TZNAME:EEST
DTSTART:20220327T010000
END:DAYLIGHT
BEGIN:STANDARD
TZOFFSETFROM:+0300
TZOFFSETTO:+0200
TZNAME:EET
DTSTART:20221030T010000
END:STANDARD
END:VTIMEZONE
BEGIN:VEVENT
DTSTART;VALUE=DATE:20211115
DTEND;VALUE=DATE:20211116
DTSTAMP:20260420T153109
CREATED:20211012T130703Z
LAST-MODIFIED:20211012T130703Z
UID:18553-1636934400-1637020799@healthcapitalhelsinki.fi
SUMMARY:Nykøbing Falster Booster Board
DESCRIPTION:Does your company have a solution that supports citizens\’ self-management of chronic diseases (COPD\, heart disease\, dementia\, depression and diabetes) and strengthens their health competencies? Do you already have a good grip on the market? Nykøbing Falster Booster Board invites Nordic companies to pitch their products to makers on a virtual event\, held on 6 December. \nNykøbing Falster Hospital is a small emergency hospital in Region Zealand\, which is at the forefront of rethinking the health service\, among other things\, by collaborating with private companies.  \nAs a participant you are expected to: \n\nPrepare and submit a product presentation or video no later than 1 week before the Booster Board\nObserve the other companies participating in the Booster Board\nGive feedback in a closed meeting only for the companies and innovation employees from Nykøbing Falster Hospital immediately after Booster Board\n\nThe Booster Board has two phases: \n\nPitch session where you pitch for a panel of decision-makers and answer questions in relation to your solution\nFeedback session where you get feedback from the hospital\’s innovation department and from the other company participants\n\n​​If your solution is the right match\, you have the opportunity to enter into a strategic cross-sectoral collaboration with Nykøbing Falster Hospital. 5 companies are chose for pitching. \nRegister latest by 15 November. The info page is in Danish but Finnish companies can pitch in English. \n 
URL:https://healthcapitalhelsinki.fi/event/nykobing-falster-booster-board/
CATEGORIES:Opportunities
END:VEVENT
BEGIN:VEVENT
DTSTART;VALUE=DATE:20211115
DTEND;VALUE=DATE:20211116
DTSTAMP:20260420T153109
CREATED:20211026T094440Z
LAST-MODIFIED:20211026T094440Z
UID:18687-1636934400-1637020799@healthcapitalhelsinki.fi
SUMMARY:Event Series for Nordic Health Tech Companies: Workshop/Pitching Event
DESCRIPTION:Are you a Nordic health tech company interested in entering the UK market? Do you need tips from experience on how to successfully land your business in the UK? \nBritish Embassies in Finland\, Norway\, Sweden and Department for International Trade (DIT) together with Nordic health cluster partners invite you to pitch your product to four experts on the UK health tech market on November 24\, from 10.30 to 12.30 (EEST). 
URL:https://healthcapitalhelsinki.fi/event/event-series-for-nordic-health-tech-companies-pitching-event/
CATEGORIES:Opportunities
ATTACH;FMTTYPE=image/png:https://healthcapitalhelsinki.fi/wp-content/uploads/2021/10/Nayttokuva-2021-10-15-kello-11.17.20.png
END:VEVENT
END:VCALENDAR