BEGIN:VCALENDAR
VERSION:2.0
PRODID:-//Health Capital Helsinki - ECPv6.15.20//NONSGML v1.0//EN
CALSCALE:GREGORIAN
METHOD:PUBLISH
X-WR-CALNAME:Health Capital Helsinki
X-ORIGINAL-URL:https://healthcapitalhelsinki.fi
X-WR-CALDESC:Events for Health Capital Helsinki
REFRESH-INTERVAL;VALUE=DURATION:PT1H
X-Robots-Tag:noindex
X-PUBLISHED-TTL:PT1H
BEGIN:VTIMEZONE
TZID:Europe/Helsinki
BEGIN:DAYLIGHT
TZOFFSETFROM:+0200
TZOFFSETTO:+0300
TZNAME:EEST
DTSTART:20200329T010000
END:DAYLIGHT
BEGIN:STANDARD
TZOFFSETFROM:+0300
TZOFFSETTO:+0200
TZNAME:EET
DTSTART:20201025T010000
END:STANDARD
BEGIN:DAYLIGHT
TZOFFSETFROM:+0200
TZOFFSETTO:+0300
TZNAME:EEST
DTSTART:20210328T010000
END:DAYLIGHT
BEGIN:STANDARD
TZOFFSETFROM:+0300
TZOFFSETTO:+0200
TZNAME:EET
DTSTART:20211031T010000
END:STANDARD
BEGIN:DAYLIGHT
TZOFFSETFROM:+0200
TZOFFSETTO:+0300
TZNAME:EEST
DTSTART:20220327T010000
END:DAYLIGHT
BEGIN:STANDARD
TZOFFSETFROM:+0300
TZOFFSETTO:+0200
TZNAME:EET
DTSTART:20221030T010000
END:STANDARD
END:VTIMEZONE
BEGIN:VEVENT
DTSTART;TZID=Europe/Helsinki:20211110T080000
DTEND;TZID=Europe/Helsinki:20211110T093000
DTSTAMP:20260420T153653
CREATED:20210903T094111Z
LAST-MODIFIED:20210903T094111Z
UID:18172-1636531200-1636536600@healthcapitalhelsinki.fi
SUMMARY:PERUTTU: Huipputeknologia ja digitalisaatio terveydenhuollossa: vaikuttavuuden hankinta (in Finnish)
DESCRIPTION:Järjestäjä: Sailab – MedTech Finland ry\, Helsinki Business Hub\, Health Capital Helsinki \nTAPAHTUMA ON VALITETTAVASTI PERUTTU. \nVaikuttavuuden hankinta -seminaari 10.11. on valitettavasti jouduttu tältä erää perumaan. Syynä on kahden puhujan äkillinen esteellisyys. Pahoittelemme peruuntumista. \nUutta ajankohtaa tilaisuudelle etsitään. Kun uusi aika varmistuu\, asiasta tiedotetaan Sailabin tapahtumakalenterissa ja tällä sivulla.
URL:https://healthcapitalhelsinki.fi/event/vaikuttavuuden-hankinta/
CATEGORIES:Events
ATTACH;FMTTYPE=image/png:https://healthcapitalhelsinki.fi/wp-content/uploads/2021/09/Nayttokuva-2021-09-03-kello-9.17.52.png
END:VEVENT
END:VCALENDAR