BEGIN:VCALENDAR
VERSION:2.0
PRODID:-//Health Capital Helsinki - ECPv6.15.20//NONSGML v1.0//EN
CALSCALE:GREGORIAN
METHOD:PUBLISH
X-WR-CALNAME:Health Capital Helsinki
X-ORIGINAL-URL:https://healthcapitalhelsinki.fi
X-WR-CALDESC:Events for Health Capital Helsinki
REFRESH-INTERVAL;VALUE=DURATION:PT1H
X-Robots-Tag:noindex
X-PUBLISHED-TTL:PT1H
BEGIN:VTIMEZONE
TZID:Europe/Helsinki
BEGIN:DAYLIGHT
TZOFFSETFROM:+0200
TZOFFSETTO:+0300
TZNAME:EEST
DTSTART:20200329T010000
END:DAYLIGHT
BEGIN:STANDARD
TZOFFSETFROM:+0300
TZOFFSETTO:+0200
TZNAME:EET
DTSTART:20201025T010000
END:STANDARD
BEGIN:DAYLIGHT
TZOFFSETFROM:+0200
TZOFFSETTO:+0300
TZNAME:EEST
DTSTART:20210328T010000
END:DAYLIGHT
BEGIN:STANDARD
TZOFFSETFROM:+0300
TZOFFSETTO:+0200
TZNAME:EET
DTSTART:20211031T010000
END:STANDARD
BEGIN:DAYLIGHT
TZOFFSETFROM:+0200
TZOFFSETTO:+0300
TZNAME:EEST
DTSTART:20220327T010000
END:DAYLIGHT
BEGIN:STANDARD
TZOFFSETFROM:+0300
TZOFFSETTO:+0200
TZNAME:EET
DTSTART:20221030T010000
END:STANDARD
END:VTIMEZONE
BEGIN:VEVENT
DTSTART;VALUE=DATE:20211104
DTEND;VALUE=DATE:20211105
DTSTAMP:20260420T153046
CREATED:20210908T091503Z
LAST-MODIFIED:20210908T091503Z
UID:18233-1635984000-1636070399@healthcapitalhelsinki.fi
SUMMARY:Terveyden älypuhelinsovellus - trendit\, regulaatio ja arviointi (in Finnish)
DESCRIPTION:Järjestäjä: USBIMED \nKoulutus on suunnattu erityisesti tuoteyritysten\, terveydenhuollon yksiköiden sekä terveysteknologian tutkimus-ja kehityshankkeiden puitteissa toimiville kehittäjille ja suunnittelijoille\, jotka osallistuvat terveyden älypuhelinsovelluksien kehittämiseen tai laadun hallintaan (RA/QA henkilöstö)\, tai arviointikehikoiden kehittämistyöhön. \nKoulutuspäivässä pureudutaan mm. seuraaviin kysymyksiin: \n\nMikä on terveyden älypuhelinsovellusten markkinatilanne tänään?\nMilloin älypuhelinsovellus on lääkinnällinen laite?\nMillaisia ovat ohjelmistoja koskettavat viranomaisvaatimukset ja vaatimustenmukaisuuden osoittamisen prosessit lääkinnällisiä laitteita koskettavan asetuksen MDR 2017/745 mukaisesti?\nMillaisia erilaisia palveluita\, arviointikehikoita ja standardeja on olemassa terveyden älypuhelinsovelluksien kehitystyötä\, löydettävyyttä ja suosittamistoimintaa tukemaan?
URL:https://healthcapitalhelsinki.fi/event/terveyden-alypuhelinsovellus-trendit-regulaatio-ja-arviointi-in-finnish/
CATEGORIES:Events
END:VEVENT
BEGIN:VEVENT
DTSTART;VALUE=DATE:20211104
DTEND;VALUE=DATE:20211105
DTSTAMP:20260420T153046
CREATED:20211012T123707Z
LAST-MODIFIED:20211012T123707Z
UID:18549-1635984000-1636070399@healthcapitalhelsinki.fi
SUMMARY:NeuroChallenge hackathon
DESCRIPTION:OLVI-säätiö NeuroChallenge is a 48h long innovation competition for entrepreneurially-minded people to create solutions for a real-life challenge within a limited time. The competition aims to promote better brain health and general wellbeing by solving challenges related to lifelong learning and creativity.  \nThe three best teams will be awarded by the Grand Jury. The Grand Prize Money is 20.000 €. All the solutions must be related to NeuroChallenge’s mission on promoting better brain health and the wellbeing of the aging population. \nThe competition takes place on 5–7 November. Make sure you register here latest by November 4!
URL:https://healthcapitalhelsinki.fi/event/neurochallenge-hackathon/
CATEGORIES:Opportunities
ATTACH;FMTTYPE=image/jpeg:https://healthcapitalhelsinki.fi/wp-content/uploads/2021/10/Neurochallenge2021_DIA-scaled-1.jpg
END:VEVENT
BEGIN:VEVENT
DTSTART;TZID=Europe/Helsinki:20211104T093000
DTEND;TZID=Europe/Helsinki:20211104T180000
DTSTAMP:20260420T153046
CREATED:20210819T124141Z
LAST-MODIFIED:20210819T124141Z
UID:17982-1636018200-1636048800@healthcapitalhelsinki.fi
SUMMARY:AI Finland & AI Day 2021: Reboot with AI
DESCRIPTION:Organiser: Finnish Center for Artificial Intelligence (FCAI)\, the City of Espoo\, Business Finland and Ministry of Economic Affairs and Employment of Finland \nAI Day is the biggest annual event highlighting the frontrunner AI research in Finland. The event brings together researchers\, companies\, students and the public sector involved in the fast-developing field of AI. AI Day promotes matchmaking\, information sharing\, and cross-border collaboration. This year\, AI Day joins forces with the AI Finland conference\, organised by Business Finland and the City of Espoo. The theme of the day is Reboot with AI – Impact leadership and foresight with AI. \nThe virtual event is free of charge and open to everyone. \n 
URL:https://healthcapitalhelsinki.fi/event/ai-finland-ai-day-2021/
CATEGORIES:Events
ATTACH;FMTTYPE=image/png:https://healthcapitalhelsinki.fi/wp-content/uploads/2021/08/AI-Day-2021.png
END:VEVENT
END:VCALENDAR