BEGIN:VCALENDAR
VERSION:2.0
PRODID:-//Health Capital Helsinki - ECPv6.15.20//NONSGML v1.0//EN
CALSCALE:GREGORIAN
METHOD:PUBLISH
X-ORIGINAL-URL:https://healthcapitalhelsinki.fi
X-WR-CALDESC:Events for Health Capital Helsinki
REFRESH-INTERVAL;VALUE=DURATION:PT1H
X-Robots-Tag:noindex
X-PUBLISHED-TTL:PT1H
BEGIN:VTIMEZONE
TZID:Europe/Helsinki
BEGIN:DAYLIGHT
TZOFFSETFROM:+0200
TZOFFSETTO:+0300
TZNAME:EEST
DTSTART:20200329T010000
END:DAYLIGHT
BEGIN:STANDARD
TZOFFSETFROM:+0300
TZOFFSETTO:+0200
TZNAME:EET
DTSTART:20201025T010000
END:STANDARD
BEGIN:DAYLIGHT
TZOFFSETFROM:+0200
TZOFFSETTO:+0300
TZNAME:EEST
DTSTART:20210328T010000
END:DAYLIGHT
BEGIN:STANDARD
TZOFFSETFROM:+0300
TZOFFSETTO:+0200
TZNAME:EET
DTSTART:20211031T010000
END:STANDARD
BEGIN:DAYLIGHT
TZOFFSETFROM:+0200
TZOFFSETTO:+0300
TZNAME:EEST
DTSTART:20220327T010000
END:DAYLIGHT
BEGIN:STANDARD
TZOFFSETFROM:+0300
TZOFFSETTO:+0200
TZNAME:EET
DTSTART:20221030T010000
END:STANDARD
END:VTIMEZONE
BEGIN:VEVENT
DTSTART;TZID=Europe/Helsinki:20211102T080000
DTEND;TZID=Europe/Helsinki:20211102T101500
DTSTAMP:20260420T153734
CREATED:20211015T101403Z
LAST-MODIFIED:20211015T101403Z
UID:18606-1635840000-1635848100@healthcapitalhelsinki.fi
SUMMARY:Health Tuesday: The Promise and Current Status of Digital Therapeutics
DESCRIPTION:Organiser: Business Finland  \nDigital therapeutics (DTx) is an exciting and growing field of evidence-based therapies that complement pharmaceutical therapies and are typically employed in the prevention and management of chronic diseases and conditions such as diabetes\, obesity\, asthma and depression. \nJoin Business Finland’s Health Tuesday on November 2 at 8.00 to learn more about this rapidly growing area and the market opportunities it offers!
URL:https://healthcapitalhelsinki.fi/event/health-tuesday-the-promise-and-current-status-of-digital-therapeutics/
CATEGORIES:Events
ATTACH;FMTTYPE=image/png:https://healthcapitalhelsinki.fi/wp-content/uploads/2021/10/Nayttokuva-2021-10-15-kello-10.20.27.png
END:VEVENT
END:VCALENDAR