BEGIN:VCALENDAR
VERSION:2.0
PRODID:-//Health Capital Helsinki - ECPv6.15.20//NONSGML v1.0//EN
CALSCALE:GREGORIAN
METHOD:PUBLISH
X-WR-CALNAME:Health Capital Helsinki
X-ORIGINAL-URL:https://healthcapitalhelsinki.fi
X-WR-CALDESC:Events for Health Capital Helsinki
REFRESH-INTERVAL;VALUE=DURATION:PT1H
X-Robots-Tag:noindex
X-PUBLISHED-TTL:PT1H
BEGIN:VTIMEZONE
TZID:Europe/Helsinki
BEGIN:DAYLIGHT
TZOFFSETFROM:+0200
TZOFFSETTO:+0300
TZNAME:EEST
DTSTART:20200329T010000
END:DAYLIGHT
BEGIN:STANDARD
TZOFFSETFROM:+0300
TZOFFSETTO:+0200
TZNAME:EET
DTSTART:20201025T010000
END:STANDARD
BEGIN:DAYLIGHT
TZOFFSETFROM:+0200
TZOFFSETTO:+0300
TZNAME:EEST
DTSTART:20210328T010000
END:DAYLIGHT
BEGIN:STANDARD
TZOFFSETFROM:+0300
TZOFFSETTO:+0200
TZNAME:EET
DTSTART:20211031T010000
END:STANDARD
BEGIN:DAYLIGHT
TZOFFSETFROM:+0200
TZOFFSETTO:+0300
TZNAME:EEST
DTSTART:20220327T010000
END:DAYLIGHT
BEGIN:STANDARD
TZOFFSETFROM:+0300
TZOFFSETTO:+0200
TZNAME:EET
DTSTART:20221030T010000
END:STANDARD
END:VTIMEZONE
BEGIN:VEVENT
DTSTART;VALUE=DATE:20211030
DTEND;VALUE=DATE:20211031
DTSTAMP:20260420T164523
CREATED:20211008T174055Z
LAST-MODIFIED:20211008T174055Z
UID:18542-1635552000-1635638399@healthcapitalhelsinki.fi
SUMMARY:Alzheimer\'s Disease Challenge 2021
DESCRIPTION:Are you ready to solve some of the biggest challenges of our time? \nBiogen and VTT Technical Research Centre of Finland are searching for digital health startups that are working on digital health technology for: \n\n prevention and early detection of Alzheimer’s Disease\n patient and caregiver support\n healthcare system support in Alzheimer’s Disease management\n\nto apply to Alzheimer’s Disease Challenge workshop on 1 December at Slush. \nThe workshop will be facilitated by Biogen and VTT teams together with leading Alzheimer’s Disease experts and representatives from a VC fund. The workshop is focused on building a pathway towards the implementation of your technology in a real healthcare setting so that it can benefit Alzheimer’s Disease patients and their loved ones as soon as possible. \n 
URL:https://healthcapitalhelsinki.fi/event/alzheimers-disease-challenge-2021/
CATEGORIES:Opportunities
ATTACH;FMTTYPE=image/jpeg:https://healthcapitalhelsinki.fi/wp-content/uploads/2021/10/Alzheimers-Disease-Challenge-2021.jpeg
END:VEVENT
END:VCALENDAR