BEGIN:VCALENDAR
VERSION:2.0
PRODID:-//Health Capital Helsinki - ECPv6.15.20//NONSGML v1.0//EN
CALSCALE:GREGORIAN
METHOD:PUBLISH
X-WR-CALNAME:Health Capital Helsinki
X-ORIGINAL-URL:https://healthcapitalhelsinki.fi
X-WR-CALDESC:Events for Health Capital Helsinki
REFRESH-INTERVAL;VALUE=DURATION:PT1H
X-Robots-Tag:noindex
X-PUBLISHED-TTL:PT1H
BEGIN:VTIMEZONE
TZID:Europe/Helsinki
BEGIN:DAYLIGHT
TZOFFSETFROM:+0200
TZOFFSETTO:+0300
TZNAME:EEST
DTSTART:20200329T010000
END:DAYLIGHT
BEGIN:STANDARD
TZOFFSETFROM:+0300
TZOFFSETTO:+0200
TZNAME:EET
DTSTART:20201025T010000
END:STANDARD
BEGIN:DAYLIGHT
TZOFFSETFROM:+0200
TZOFFSETTO:+0300
TZNAME:EEST
DTSTART:20210328T010000
END:DAYLIGHT
BEGIN:STANDARD
TZOFFSETFROM:+0300
TZOFFSETTO:+0200
TZNAME:EET
DTSTART:20211031T010000
END:STANDARD
BEGIN:DAYLIGHT
TZOFFSETFROM:+0200
TZOFFSETTO:+0300
TZNAME:EEST
DTSTART:20220327T010000
END:DAYLIGHT
BEGIN:STANDARD
TZOFFSETFROM:+0300
TZOFFSETTO:+0200
TZNAME:EET
DTSTART:20221030T010000
END:STANDARD
END:VTIMEZONE
BEGIN:VEVENT
DTSTART;TZID=Europe/Helsinki:20211028T160000
DTEND;TZID=Europe/Helsinki:20211028T173000
DTSTAMP:20260420T164523
CREATED:20211013T091611Z
LAST-MODIFIED:20211013T091611Z
UID:18577-1635436800-1635442200@healthcapitalhelsinki.fi
SUMMARY:FIMM Meets Pharma: Digital Diagnostics for Pre­ci­sion Medicine
DESCRIPTION:Organiser: The Institute for Molecular Medicine Finland (FIMM)\, the University of Helsinki and Health Capital Helsinki \nIn this webinar\, FIMM will feature some of their digital diagnostics projects. Characterization of biological samples for diagnostic purposes is undergoing a transition from an analog to a digital technology. Many of the processes can now be effectively enhanced and supported by machine learning and AI. Please join to learn more about how this can benefit new collaborations and partnerships. \nFIMM meets Pharma is series of webinars aiming to showcase the current scientific frameworks and technological capabilities of FIMM and spark interest with pharmaceutical partners to initiate new projects and collaborations. 
URL:https://healthcapitalhelsinki.fi/event/fimm-meets-pharma-digital-diagnostics-for-precision-medicine-copy-copy/
CATEGORIES:Events
ATTACH;FMTTYPE=image/png:https://healthcapitalhelsinki.fi/wp-content/uploads/2021/03/unnamed-5.png
END:VEVENT
END:VCALENDAR