BEGIN:VCALENDAR
VERSION:2.0
PRODID:-//Health Capital Helsinki - ECPv6.15.20//NONSGML v1.0//EN
CALSCALE:GREGORIAN
METHOD:PUBLISH
X-ORIGINAL-URL:https://healthcapitalhelsinki.fi
X-WR-CALDESC:Events for Health Capital Helsinki
REFRESH-INTERVAL;VALUE=DURATION:PT1H
X-Robots-Tag:noindex
X-PUBLISHED-TTL:PT1H
BEGIN:VTIMEZONE
TZID:Europe/Helsinki
BEGIN:DAYLIGHT
TZOFFSETFROM:+0200
TZOFFSETTO:+0300
TZNAME:EEST
DTSTART:20200329T010000
END:DAYLIGHT
BEGIN:STANDARD
TZOFFSETFROM:+0300
TZOFFSETTO:+0200
TZNAME:EET
DTSTART:20201025T010000
END:STANDARD
BEGIN:DAYLIGHT
TZOFFSETFROM:+0200
TZOFFSETTO:+0300
TZNAME:EEST
DTSTART:20210328T010000
END:DAYLIGHT
BEGIN:STANDARD
TZOFFSETFROM:+0300
TZOFFSETTO:+0200
TZNAME:EET
DTSTART:20211031T010000
END:STANDARD
BEGIN:DAYLIGHT
TZOFFSETFROM:+0200
TZOFFSETTO:+0300
TZNAME:EEST
DTSTART:20220327T010000
END:DAYLIGHT
BEGIN:STANDARD
TZOFFSETFROM:+0300
TZOFFSETTO:+0200
TZNAME:EET
DTSTART:20221030T010000
END:STANDARD
END:VTIMEZONE
BEGIN:VEVENT
DTSTART;TZID=Europe/Helsinki:20211026T100000
DTEND;TZID=Europe/Helsinki:20211026T120000
DTSTAMP:20260420T164529
CREATED:20211015T095749Z
LAST-MODIFIED:20211015T095749Z
UID:18601-1635242400-1635249600@healthcapitalhelsinki.fi
SUMMARY:MedTech Opportunities in Asia Pacific – Launch of the new Nordic Health Study Report
DESCRIPTION:Organiser: Innovation Norway\, Business Finland and Business Sweden  \nHow to strengthen the global presence of Norwegian\, Finnish\, and Swedish companies in the healthcare industry? What kind of business opportunities do seven key markets in APAC have to offer for these companies?  \nJoin the webinar\, organised by Innovation Norway\, Business Finland and Business Sweden\, to take a deep dive into the Nordic Health Study report and to hear inspiring stories from three MedTech companies that are doing business in APAC. \nThe webinar will take place on October 26\, from 10 to 12 (Finnish time).
URL:https://healthcapitalhelsinki.fi/event/medtech-opportunities-in-asia-pacific/
CATEGORIES:Events
ATTACH;FMTTYPE=image/png:https://healthcapitalhelsinki.fi/wp-content/uploads/2021/10/Nayttokuva-2021-10-15-kello-9.56.54.png
END:VEVENT
END:VCALENDAR