BEGIN:VCALENDAR
VERSION:2.0
PRODID:-//Health Capital Helsinki - ECPv6.15.20//NONSGML v1.0//EN
CALSCALE:GREGORIAN
METHOD:PUBLISH
X-WR-CALNAME:Health Capital Helsinki
X-ORIGINAL-URL:https://healthcapitalhelsinki.fi
X-WR-CALDESC:Events for Health Capital Helsinki
REFRESH-INTERVAL;VALUE=DURATION:PT1H
X-Robots-Tag:noindex
X-PUBLISHED-TTL:PT1H
BEGIN:VTIMEZONE
TZID:Europe/Helsinki
BEGIN:DAYLIGHT
TZOFFSETFROM:+0200
TZOFFSETTO:+0300
TZNAME:EEST
DTSTART:20200329T010000
END:DAYLIGHT
BEGIN:STANDARD
TZOFFSETFROM:+0300
TZOFFSETTO:+0200
TZNAME:EET
DTSTART:20201025T010000
END:STANDARD
BEGIN:DAYLIGHT
TZOFFSETFROM:+0200
TZOFFSETTO:+0300
TZNAME:EEST
DTSTART:20210328T010000
END:DAYLIGHT
BEGIN:STANDARD
TZOFFSETFROM:+0300
TZOFFSETTO:+0200
TZNAME:EET
DTSTART:20211031T010000
END:STANDARD
BEGIN:DAYLIGHT
TZOFFSETFROM:+0200
TZOFFSETTO:+0300
TZNAME:EEST
DTSTART:20220327T010000
END:DAYLIGHT
BEGIN:STANDARD
TZOFFSETFROM:+0300
TZOFFSETTO:+0200
TZNAME:EET
DTSTART:20221030T010000
END:STANDARD
END:VTIMEZONE
BEGIN:VEVENT
DTSTART;VALUE=DATE:20211015
DTEND;VALUE=DATE:20211016
DTSTAMP:20260420T164521
CREATED:20210921T124328Z
LAST-MODIFIED:20210921T124328Z
UID:18360-1634256000-1634342399@healthcapitalhelsinki.fi
SUMMARY:NOME Startup Competition
DESCRIPTION:Nordic Mentor Network for Entrepreneurship (NOME) invites startups working in biotech\, medtech\, diagnostics\, healthcare\, digital health\, and industrial biotech based in the Nordics to participate in the Startup Competition! \nStartup Competition\, held on November 23 in Copenhagen\, offers your company a great opportunity to not just network with the leading experts in the field of life sciences but also to get a direct pass to participate in the NOME Mentoring Program. In addition\, five companies will be selected to pitch at the NOME Annual Meeting. The winner will receive the NOME prize of 50 000 DKK.
URL:https://healthcapitalhelsinki.fi/event/nome-startup-competition/
CATEGORIES:Opportunities
ATTACH;FMTTYPE=image/png:https://healthcapitalhelsinki.fi/wp-content/uploads/2021/09/Nayttokuva-2021-09-21-kello-13.11.14.png
END:VEVENT
END:VCALENDAR