BEGIN:VCALENDAR
VERSION:2.0
PRODID:-//Health Capital Helsinki - ECPv6.15.20//NONSGML v1.0//EN
CALSCALE:GREGORIAN
METHOD:PUBLISH
X-WR-CALNAME:Health Capital Helsinki
X-ORIGINAL-URL:https://healthcapitalhelsinki.fi
X-WR-CALDESC:Events for Health Capital Helsinki
REFRESH-INTERVAL;VALUE=DURATION:PT1H
X-Robots-Tag:noindex
X-PUBLISHED-TTL:PT1H
BEGIN:VTIMEZONE
TZID:Europe/Helsinki
BEGIN:DAYLIGHT
TZOFFSETFROM:+0200
TZOFFSETTO:+0300
TZNAME:EEST
DTSTART:20200329T010000
END:DAYLIGHT
BEGIN:STANDARD
TZOFFSETFROM:+0300
TZOFFSETTO:+0200
TZNAME:EET
DTSTART:20201025T010000
END:STANDARD
BEGIN:DAYLIGHT
TZOFFSETFROM:+0200
TZOFFSETTO:+0300
TZNAME:EEST
DTSTART:20210328T010000
END:DAYLIGHT
BEGIN:STANDARD
TZOFFSETFROM:+0300
TZOFFSETTO:+0200
TZNAME:EET
DTSTART:20211031T010000
END:STANDARD
BEGIN:DAYLIGHT
TZOFFSETFROM:+0200
TZOFFSETTO:+0300
TZNAME:EEST
DTSTART:20220327T010000
END:DAYLIGHT
BEGIN:STANDARD
TZOFFSETFROM:+0300
TZOFFSETTO:+0200
TZNAME:EET
DTSTART:20221030T010000
END:STANDARD
END:VTIMEZONE
BEGIN:VEVENT
DTSTART;TZID=Europe/Helsinki:20211012T170000
DTEND;TZID=Europe/Helsinki:20211012T170000
DTSTAMP:20260420T164522
CREATED:20210903T111923Z
LAST-MODIFIED:20210903T111923Z
UID:18202-1634058000-1634058000@healthcapitalhelsinki.fi
SUMMARY:HELSEED workshops: Startup Legalities + Q&A
DESCRIPTION:Organiser: Helsinki Think Company\, the University of Helsinki \nThis autumn you can grow your entrepreneurship toolkit with a new set of HELSEED Workshops! The workshops are suited for teams that are planning to apply for HELSEED funding from the University of Helsinki as well as all curious minds interested in learning more about entrepreneurship. \nThe third workshop offers a structured overview on key legal matters concerning the process of setting up\, as well as sustaining a business. The participants will also have a chance to ask their own questions that will be answered by legal professionals.  \nLearning objectives of the workshop are: \n\nGetting an overview of key legal matters\, contracts and documentation you are expected to handle as an entrepreneur\nTaking a look at good sources of information to support your journey\n\nAll workshops are free to join and held via Zoom in English. 
URL:https://healthcapitalhelsinki.fi/event/startup-legalities-qa/
CATEGORIES:Events
ATTACH;FMTTYPE=image/png:https://healthcapitalhelsinki.fi/wp-content/uploads/2021/09/Nayttokuva-2021-09-03-kello-11.05.33.png
END:VEVENT
END:VCALENDAR