BEGIN:VCALENDAR
VERSION:2.0
PRODID:-//Health Capital Helsinki - ECPv6.15.20//NONSGML v1.0//EN
CALSCALE:GREGORIAN
METHOD:PUBLISH
X-WR-CALNAME:Health Capital Helsinki
X-ORIGINAL-URL:https://healthcapitalhelsinki.fi
X-WR-CALDESC:Events for Health Capital Helsinki
REFRESH-INTERVAL;VALUE=DURATION:PT1H
X-Robots-Tag:noindex
X-PUBLISHED-TTL:PT1H
BEGIN:VTIMEZONE
TZID:Europe/Helsinki
BEGIN:DAYLIGHT
TZOFFSETFROM:+0200
TZOFFSETTO:+0300
TZNAME:EEST
DTSTART:20200329T010000
END:DAYLIGHT
BEGIN:STANDARD
TZOFFSETFROM:+0300
TZOFFSETTO:+0200
TZNAME:EET
DTSTART:20201025T010000
END:STANDARD
BEGIN:DAYLIGHT
TZOFFSETFROM:+0200
TZOFFSETTO:+0300
TZNAME:EEST
DTSTART:20210328T010000
END:DAYLIGHT
BEGIN:STANDARD
TZOFFSETFROM:+0300
TZOFFSETTO:+0200
TZNAME:EET
DTSTART:20211031T010000
END:STANDARD
BEGIN:DAYLIGHT
TZOFFSETFROM:+0200
TZOFFSETTO:+0300
TZNAME:EEST
DTSTART:20220327T010000
END:DAYLIGHT
BEGIN:STANDARD
TZOFFSETFROM:+0300
TZOFFSETTO:+0200
TZNAME:EET
DTSTART:20221030T010000
END:STANDARD
END:VTIMEZONE
BEGIN:VEVENT
DTSTART;VALUE=DATE:20211007
DTEND;VALUE=DATE:20211009
DTSTAMP:20260420T164523
CREATED:20210824T142929Z
LAST-MODIFIED:20210824T142929Z
UID:18033-1633564800-1633737599@healthcapitalhelsinki.fi
SUMMARY:eHealth2021 in a Lifecycle – International Conference & The 26th Finnish National Conference on Telemedicine and eHealth
DESCRIPTION:Organiser: Finnish Society of Telemedicine and eHealth (FSTeH) and the Oulu University Hospital \nThe conference will cover multiple themes updating the knowledge on the International and Nordic eHealth trends and solutions. The program is aimed at healthcare professionals and service providers as well as researchers in the eHealth area. The conference offers a unique meeting place and new information to physicians\, nursing staff as well as to responsible persons for management\, planning and education. Top quality international keynote lectures are accompanied by up-to-date scientific abstracts. \nThe conference will be organised as a live event in Oulu for participants coming from Finland. International participants are warmly welcome to the English language hybrid conference section.
URL:https://healthcapitalhelsinki.fi/event/ehealth2021-in-a-lifecycle-international-conference-the-26th-finnish-national-conference-on-telemedicine-and-ehealth/
CATEGORIES:Events
ATTACH;FMTTYPE=image/jpeg:https://healthcapitalhelsinki.fi/wp-content/uploads/2021/08/eHealth2021.jpeg
END:VEVENT
END:VCALENDAR