BEGIN:VCALENDAR
VERSION:2.0
PRODID:-//Health Capital Helsinki - ECPv6.15.20//NONSGML v1.0//EN
CALSCALE:GREGORIAN
METHOD:PUBLISH
X-WR-CALNAME:Health Capital Helsinki
X-ORIGINAL-URL:https://healthcapitalhelsinki.fi
X-WR-CALDESC:Events for Health Capital Helsinki
REFRESH-INTERVAL;VALUE=DURATION:PT1H
X-Robots-Tag:noindex
X-PUBLISHED-TTL:PT1H
BEGIN:VTIMEZONE
TZID:Europe/Helsinki
BEGIN:DAYLIGHT
TZOFFSETFROM:+0200
TZOFFSETTO:+0300
TZNAME:EEST
DTSTART:20200329T010000
END:DAYLIGHT
BEGIN:STANDARD
TZOFFSETFROM:+0300
TZOFFSETTO:+0200
TZNAME:EET
DTSTART:20201025T010000
END:STANDARD
BEGIN:DAYLIGHT
TZOFFSETFROM:+0200
TZOFFSETTO:+0300
TZNAME:EEST
DTSTART:20210328T010000
END:DAYLIGHT
BEGIN:STANDARD
TZOFFSETFROM:+0300
TZOFFSETTO:+0200
TZNAME:EET
DTSTART:20211031T010000
END:STANDARD
BEGIN:DAYLIGHT
TZOFFSETFROM:+0200
TZOFFSETTO:+0300
TZNAME:EEST
DTSTART:20220327T010000
END:DAYLIGHT
BEGIN:STANDARD
TZOFFSETFROM:+0300
TZOFFSETTO:+0200
TZNAME:EET
DTSTART:20221030T010000
END:STANDARD
END:VTIMEZONE
BEGIN:VEVENT
DTSTART;TZID=Europe/Helsinki:20211006T080000
DTEND;TZID=Europe/Helsinki:20211006T093000
DTSTAMP:20260420T164523
CREATED:20210903T093158Z
LAST-MODIFIED:20210903T093158Z
UID:18167-1633507200-1633512600@healthcapitalhelsinki.fi
SUMMARY:Huipputeknologia ja digitalisaatio terveydenhuollossa: innovaatioiden hankinta (in Finnish)
DESCRIPTION:Järjestäjä: Sailab – MedTech Finland ry\, Helsinki Business Hub\, Health Capital Helsinki \nKuinka terveysteknologian innovaatioita saadaan terveydenhuollon käyttöön? Miten tutkimus-\, kehitys- ja innovaatiotoiminta huomioidaan hankintamenettelyissä ja mitä erityiskysymyksiä aiheeseen liittyy? Näihin kysymyksiin vastataan innovaatioiden hankinta -seminaarissa. Lisäksi pohditaan\, kuinka referenssejä tulisi (voida) hyödyntää ja sitä\, onko suomen kielen vaatiminen hankinta-asiakirjoissa tarkoituksenmukaista. \nTapahtumassa ovat puhujina muun muassa erikoistutkija Ville Valovirta (VTT) ja toimitusjohtaja Petteri Joenpolvi (Adesante). \nLiity tilaisuuteen tästä linkistä tietokoneella 6.10. klo 8.00 (ei ennakkoilmoittautumista.) \n 
URL:https://healthcapitalhelsinki.fi/event/innovaatioiden-hankinta/
CATEGORIES:Events
ATTACH;FMTTYPE=image/png:https://healthcapitalhelsinki.fi/wp-content/uploads/2021/09/Nayttokuva-2021-09-03-kello-9.17.52.png
END:VEVENT
END:VCALENDAR