BEGIN:VCALENDAR
VERSION:2.0
PRODID:-//Health Capital Helsinki - ECPv6.15.20//NONSGML v1.0//EN
CALSCALE:GREGORIAN
METHOD:PUBLISH
X-WR-CALNAME:Health Capital Helsinki
X-ORIGINAL-URL:https://healthcapitalhelsinki.fi
X-WR-CALDESC:Events for Health Capital Helsinki
REFRESH-INTERVAL;VALUE=DURATION:PT1H
X-Robots-Tag:noindex
X-PUBLISHED-TTL:PT1H
BEGIN:VTIMEZONE
TZID:Europe/Helsinki
BEGIN:DAYLIGHT
TZOFFSETFROM:+0200
TZOFFSETTO:+0300
TZNAME:EEST
DTSTART:20200329T010000
END:DAYLIGHT
BEGIN:STANDARD
TZOFFSETFROM:+0300
TZOFFSETTO:+0200
TZNAME:EET
DTSTART:20201025T010000
END:STANDARD
BEGIN:DAYLIGHT
TZOFFSETFROM:+0200
TZOFFSETTO:+0300
TZNAME:EEST
DTSTART:20210328T010000
END:DAYLIGHT
BEGIN:STANDARD
TZOFFSETFROM:+0300
TZOFFSETTO:+0200
TZNAME:EET
DTSTART:20211031T010000
END:STANDARD
BEGIN:DAYLIGHT
TZOFFSETFROM:+0200
TZOFFSETTO:+0300
TZNAME:EEST
DTSTART:20220327T010000
END:DAYLIGHT
BEGIN:STANDARD
TZOFFSETFROM:+0300
TZOFFSETTO:+0200
TZNAME:EET
DTSTART:20221030T010000
END:STANDARD
END:VTIMEZONE
BEGIN:VEVENT
DTSTART;VALUE=DATE:20210930
DTEND;VALUE=DATE:20211001
DTSTAMP:20260420T164521
CREATED:20210813T124138Z
LAST-MODIFIED:20210813T124138Z
UID:17928-1632960000-1633046399@healthcapitalhelsinki.fi
SUMMARY:Y Science: Health Pitching Competition
DESCRIPTION:Apply to become one of the finalists who will pitch their idea on the stage of Y Science on December 1st! Y Science\, an official side event of Slush\, brings together the curious scientific community and the business world to inspire concrete action and contribution to the society in the field of life sciences. \nY Science Pitching Competition is searching for: \n\nEarly-stage science-based startups or pre-startups located in Helsinki Region and tackling problems related to health\, medicine\, or pharma\nCompanies that are part of the Health Incubator Helsinki\n\nThe winner will be granted 5\,000 euros to take their exciting idea further. \n 
URL:https://healthcapitalhelsinki.fi/event/helseed-2021-programme-copy-copy-2/
CATEGORIES:Opportunities
ATTACH;FMTTYPE=image/png:https://healthcapitalhelsinki.fi/wp-content/uploads/2021/08/Nayttokuva-2021-08-13-kello-12.14.34.png
END:VEVENT
END:VCALENDAR