BEGIN:VCALENDAR
VERSION:2.0
PRODID:-//Health Capital Helsinki - ECPv6.15.20//NONSGML v1.0//EN
CALSCALE:GREGORIAN
METHOD:PUBLISH
X-WR-CALNAME:Health Capital Helsinki
X-ORIGINAL-URL:https://healthcapitalhelsinki.fi
X-WR-CALDESC:Events for Health Capital Helsinki
REFRESH-INTERVAL;VALUE=DURATION:PT1H
X-Robots-Tag:noindex
X-PUBLISHED-TTL:PT1H
BEGIN:VTIMEZONE
TZID:Europe/Helsinki
BEGIN:DAYLIGHT
TZOFFSETFROM:+0200
TZOFFSETTO:+0300
TZNAME:EEST
DTSTART:20200329T010000
END:DAYLIGHT
BEGIN:STANDARD
TZOFFSETFROM:+0300
TZOFFSETTO:+0200
TZNAME:EET
DTSTART:20201025T010000
END:STANDARD
BEGIN:DAYLIGHT
TZOFFSETFROM:+0200
TZOFFSETTO:+0300
TZNAME:EEST
DTSTART:20210328T010000
END:DAYLIGHT
BEGIN:STANDARD
TZOFFSETFROM:+0300
TZOFFSETTO:+0200
TZNAME:EET
DTSTART:20211031T010000
END:STANDARD
BEGIN:DAYLIGHT
TZOFFSETFROM:+0200
TZOFFSETTO:+0300
TZNAME:EEST
DTSTART:20220327T010000
END:DAYLIGHT
BEGIN:STANDARD
TZOFFSETFROM:+0300
TZOFFSETTO:+0200
TZNAME:EET
DTSTART:20221030T010000
END:STANDARD
END:VTIMEZONE
BEGIN:VEVENT
DTSTART;TZID=Europe/Helsinki:20210929T160000
DTEND;TZID=Europe/Helsinki:20210929T173000
DTSTAMP:20260420T164521
CREATED:20210428T130842Z
LAST-MODIFIED:20210428T130842Z
UID:16865-1632931200-1632936600@healthcapitalhelsinki.fi
SUMMARY:FIMM Meets Pharma: Case FinnGen - Ge­n­omic data sup­port­ing drug de­vel­op­ment and med­ical dis­cov­er­ies
DESCRIPTION:Organiser: FIMM in collaboration with Health Capital Helsinki \nThe Institute for Molecular Medicine Finland (FIMM) has for several years been spearheading collaborations from the University of Helsinki with pharmaceutical companies. FIMM Meets Pharma webinar series aims to showcase the current scientific frameworks and technological capabilities of FIMM and to spark interest in the pharmaceutical partners for new projects and collaborations. \nIn this webinar\, we will feature the FinnGen study\, an ambitious public-private research project aiming to produce and analyze genome data on 500.000 Finnish biobank participants. The study is coordinated by FIMM researchers and done in collaboration with academic research centers & biobanks in Finland and with a large number of international pharmaceutical companies. \nPlease join to learn more about how projects like FinnGen can enhance drug target identification and prioritization\, what pharma is aiming for in genetic studies and what kind of future studies genome data in the Finnish biobanks enables.
URL:https://healthcapitalhelsinki.fi/event/fimm-meets-pharma-why-fimm-why-finland-copy/
CATEGORIES:Events
ATTACH;FMTTYPE=image/png:https://healthcapitalhelsinki.fi/wp-content/uploads/2021/03/unnamed-5.png
END:VEVENT
END:VCALENDAR