BEGIN:VCALENDAR
VERSION:2.0
PRODID:-//Health Capital Helsinki - ECPv6.15.20//NONSGML v1.0//EN
CALSCALE:GREGORIAN
METHOD:PUBLISH
X-ORIGINAL-URL:https://healthcapitalhelsinki.fi
X-WR-CALDESC:Events for Health Capital Helsinki
REFRESH-INTERVAL;VALUE=DURATION:PT1H
X-Robots-Tag:noindex
X-PUBLISHED-TTL:PT1H
BEGIN:VTIMEZONE
TZID:Europe/Helsinki
BEGIN:DAYLIGHT
TZOFFSETFROM:+0200
TZOFFSETTO:+0300
TZNAME:EEST
DTSTART:20200329T010000
END:DAYLIGHT
BEGIN:STANDARD
TZOFFSETFROM:+0300
TZOFFSETTO:+0200
TZNAME:EET
DTSTART:20201025T010000
END:STANDARD
BEGIN:DAYLIGHT
TZOFFSETFROM:+0200
TZOFFSETTO:+0300
TZNAME:EEST
DTSTART:20210328T010000
END:DAYLIGHT
BEGIN:STANDARD
TZOFFSETFROM:+0300
TZOFFSETTO:+0200
TZNAME:EET
DTSTART:20211031T010000
END:STANDARD
BEGIN:DAYLIGHT
TZOFFSETFROM:+0200
TZOFFSETTO:+0300
TZNAME:EEST
DTSTART:20220327T010000
END:DAYLIGHT
BEGIN:STANDARD
TZOFFSETFROM:+0300
TZOFFSETTO:+0200
TZNAME:EET
DTSTART:20221030T010000
END:STANDARD
END:VTIMEZONE
BEGIN:VEVENT
DTSTART;TZID=Europe/Helsinki:20210923T100000
DTEND;TZID=Europe/Helsinki:20210923T123000
DTSTAMP:20260420T181644
CREATED:20210903T100556Z
LAST-MODIFIED:20210903T100556Z
UID:18190-1632391200-1632400200@healthcapitalhelsinki.fi
SUMMARY:Data Driven Solutions for Clinical Research and Development: Flanders-Nordics Matchmaking Event
DESCRIPTION:Organiser: Flanders Investment & Trade\, Upgraded – Association of Finnish Health Startups \nAre you interested in novel solutions of clinical research and development and ways of the market’s adaptation towards the restrictions and challenges caused by the COVID-19 outbreak?  \nFlanders Investment & Trade and Upgraded – Association of Finnish Health Startups invite companies from the full digital health landscape to connect and discover new opportunities for collaboration across borders on September 23\, from 10 to 12.30.
URL:https://healthcapitalhelsinki.fi/event/data-driven-solutions-for-clinical-research-and-development/
CATEGORIES:Events
ATTACH;FMTTYPE=image/png:https://healthcapitalhelsinki.fi/wp-content/uploads/2021/09/Nayttokuva-2021-09-03-kello-10.05.17.png
END:VEVENT
END:VCALENDAR