BEGIN:VCALENDAR
VERSION:2.0
PRODID:-//Health Capital Helsinki - ECPv6.15.20//NONSGML v1.0//EN
CALSCALE:GREGORIAN
METHOD:PUBLISH
X-WR-CALNAME:Health Capital Helsinki
X-ORIGINAL-URL:https://healthcapitalhelsinki.fi
X-WR-CALDESC:Events for Health Capital Helsinki
REFRESH-INTERVAL;VALUE=DURATION:PT1H
X-Robots-Tag:noindex
X-PUBLISHED-TTL:PT1H
BEGIN:VTIMEZONE
TZID:Europe/Helsinki
BEGIN:DAYLIGHT
TZOFFSETFROM:+0200
TZOFFSETTO:+0300
TZNAME:EEST
DTSTART:20200329T010000
END:DAYLIGHT
BEGIN:STANDARD
TZOFFSETFROM:+0300
TZOFFSETTO:+0200
TZNAME:EET
DTSTART:20201025T010000
END:STANDARD
BEGIN:DAYLIGHT
TZOFFSETFROM:+0200
TZOFFSETTO:+0300
TZNAME:EEST
DTSTART:20210328T010000
END:DAYLIGHT
BEGIN:STANDARD
TZOFFSETFROM:+0300
TZOFFSETTO:+0200
TZNAME:EET
DTSTART:20211031T010000
END:STANDARD
BEGIN:DAYLIGHT
TZOFFSETFROM:+0200
TZOFFSETTO:+0300
TZNAME:EEST
DTSTART:20220327T010000
END:DAYLIGHT
BEGIN:STANDARD
TZOFFSETFROM:+0300
TZOFFSETTO:+0200
TZNAME:EET
DTSTART:20221030T010000
END:STANDARD
END:VTIMEZONE
BEGIN:VEVENT
DTSTART;VALUE=DATE:20210922
DTEND;VALUE=DATE:20210923
DTSTAMP:20260420T181648
CREATED:20210301T121325Z
LAST-MODIFIED:20210301T121325Z
UID:15550-1632268800-1632355199@healthcapitalhelsinki.fi
SUMMARY:13th Healthcare Innovation World Cup
DESCRIPTION:Internet of Medical Things (IoMT) start-ups\, scale-ups and SMEs submit your solutions to the 13th Healthcare Innovation World Cup® – from wearable technologies to digital biomarkers. The aim of the competition is to promote innovations\, to make them visible to the world\, and to connect innovators with decision-makers in the healthcare industry\, potential partners\, investors and customers. Contestants can win prizes worth over 500.000 USD\, incl. pitching slots in the finals at MEDICA in November 2021. \nJoin the competition now and take the opportunity to scale up your business at the 8th MEDICA Connected Healthcare Forum\, the hotspot for digital heath innovations. \nThe participation is free of charge.
URL:https://healthcapitalhelsinki.fi/event/13th-healthcare-innovation-world-cup/
CATEGORIES:Opportunities
ATTACH;FMTTYPE=image/jpeg:https://healthcapitalhelsinki.fi/wp-content/uploads/2021/03/Healthcare-innovation-world-cup.jpg
END:VEVENT
BEGIN:VEVENT
DTSTART;VALUE=DATE:20210922
DTEND;VALUE=DATE:20210923
DTSTAMP:20260420T181648
CREATED:20210907T090812Z
LAST-MODIFIED:20210907T090812Z
UID:18221-1632268800-1632355199@healthcapitalhelsinki.fi
SUMMARY:10th MEDICA Start-up Competition
DESCRIPTION:Are you a startup developing solutions in AI in healthcare\, health apps or robotics? The 10th MEDICA Start-up Competition is searching for the most disruptive solutions in the healthcare industry. The aim of the competition is to take the connected medical innovations to an advanced level by easing the work of doctors with mass healthcare data collection\, real-time vital signs monitoring\, omni-evaluation with in-house and remote patients around the globe.  \nThe TOP12 Medical Start-ups of the 10th MEDICA Start-up Competition will gain\, for example\, presentation slots at the world’s largest trade fair for the digital transformation of the healthcare industry –Pitch & Award Ceremony / MEDICA 2021\, 1-1 introductions to potential investors and business partners and valuable advice from forefront tech experts.
URL:https://healthcapitalhelsinki.fi/event/10th-medica-start-up-competition/
CATEGORIES:Opportunities
END:VEVENT
END:VCALENDAR