BEGIN:VCALENDAR
VERSION:2.0
PRODID:-//Health Capital Helsinki - ECPv6.15.20//NONSGML v1.0//EN
CALSCALE:GREGORIAN
METHOD:PUBLISH
X-ORIGINAL-URL:https://healthcapitalhelsinki.fi
X-WR-CALDESC:Events for Health Capital Helsinki
REFRESH-INTERVAL;VALUE=DURATION:PT1H
X-Robots-Tag:noindex
X-PUBLISHED-TTL:PT1H
BEGIN:VTIMEZONE
TZID:Europe/Helsinki
BEGIN:DAYLIGHT
TZOFFSETFROM:+0200
TZOFFSETTO:+0300
TZNAME:EEST
DTSTART:20200329T010000
END:DAYLIGHT
BEGIN:STANDARD
TZOFFSETFROM:+0300
TZOFFSETTO:+0200
TZNAME:EET
DTSTART:20201025T010000
END:STANDARD
BEGIN:DAYLIGHT
TZOFFSETFROM:+0200
TZOFFSETTO:+0300
TZNAME:EEST
DTSTART:20210328T010000
END:DAYLIGHT
BEGIN:STANDARD
TZOFFSETFROM:+0300
TZOFFSETTO:+0200
TZNAME:EET
DTSTART:20211031T010000
END:STANDARD
BEGIN:DAYLIGHT
TZOFFSETFROM:+0200
TZOFFSETTO:+0300
TZNAME:EEST
DTSTART:20220327T010000
END:DAYLIGHT
BEGIN:STANDARD
TZOFFSETFROM:+0300
TZOFFSETTO:+0200
TZNAME:EET
DTSTART:20221030T010000
END:STANDARD
END:VTIMEZONE
BEGIN:VEVENT
DTSTART;VALUE=DATE:20210919
DTEND;VALUE=DATE:20210920
DTSTAMP:20260420T181644
CREATED:20210908T092951Z
LAST-MODIFIED:20210908T092951Z
UID:18241-1632009600-1632095999@healthcapitalhelsinki.fi
SUMMARY:Hacking Obesity Europe hackathon
DESCRIPTION:Hacking Obesity Europe is a hackathon program by Novo Nordisk to come up with innovative digital solutions to help people living with obesity and to engage more physicians and healthcare staff in offering professional help.  \nWe are calling developers\, designers\, marketers\, visionaries and field experts to join the on-line hackathon in November 2021.  \nThe goal of the program is to come up with new ideas that use digital tools to support individuals and physicians and form teams around them to build the idea into a prototype and to test if the idea is valid.   \nThe best ideas will win a hot desk in Copenhagen for 3 months\, mentoring from Novo Nordisk experts \, a chance to pilot their idea with Novo Nordisk. The total prize fund is 10 000 euros. 
URL:https://healthcapitalhelsinki.fi/event/hacking-obesity-europe-hackathon/
CATEGORIES:Opportunities
ATTACH;FMTTYPE=image/jpeg:https://healthcapitalhelsinki.fi/wp-content/uploads/2021/09/image003.jpg
END:VEVENT
END:VCALENDAR