BEGIN:VCALENDAR
VERSION:2.0
PRODID:-//Health Capital Helsinki - ECPv6.15.20//NONSGML v1.0//EN
CALSCALE:GREGORIAN
METHOD:PUBLISH
X-WR-CALNAME:Health Capital Helsinki
X-ORIGINAL-URL:https://healthcapitalhelsinki.fi
X-WR-CALDESC:Events for Health Capital Helsinki
REFRESH-INTERVAL;VALUE=DURATION:PT1H
X-Robots-Tag:noindex
X-PUBLISHED-TTL:PT1H
BEGIN:VTIMEZONE
TZID:Europe/Helsinki
BEGIN:DAYLIGHT
TZOFFSETFROM:+0200
TZOFFSETTO:+0300
TZNAME:EEST
DTSTART:20200329T010000
END:DAYLIGHT
BEGIN:STANDARD
TZOFFSETFROM:+0300
TZOFFSETTO:+0200
TZNAME:EET
DTSTART:20201025T010000
END:STANDARD
BEGIN:DAYLIGHT
TZOFFSETFROM:+0200
TZOFFSETTO:+0300
TZNAME:EEST
DTSTART:20210328T010000
END:DAYLIGHT
BEGIN:STANDARD
TZOFFSETFROM:+0300
TZOFFSETTO:+0200
TZNAME:EET
DTSTART:20211031T010000
END:STANDARD
BEGIN:DAYLIGHT
TZOFFSETFROM:+0200
TZOFFSETTO:+0300
TZNAME:EEST
DTSTART:20220327T010000
END:DAYLIGHT
BEGIN:STANDARD
TZOFFSETFROM:+0300
TZOFFSETTO:+0200
TZNAME:EET
DTSTART:20221030T010000
END:STANDARD
END:VTIMEZONE
BEGIN:VEVENT
DTSTART;VALUE=DATE:20210906
DTEND;VALUE=DATE:20210918
DTSTAMP:20260420T181648
CREATED:20210817T093258Z
LAST-MODIFIED:20210817T093258Z
UID:17951-1630886400-1631923199@healthcapitalhelsinki.fi
SUMMARY:LSX Nordic Congress
DESCRIPTION:Organiser: LSX \nThe LSX Nordic Congress is the leading strategy\, investment and partnering conference for the Nordic life science and healthcare industry. It connects the community with regional and international investment and strategic partners to further growth\, development and internationalisation. \nIt\’s a showcase platform for the region’s life sciences start-ups and technology innovators driving the future of healthcare. \n6 September – IPO Bootcamp\n7-8 September – Main Days\n6-17 September – Video Partnering \nAll content sessions are free to attend. If you\’d like to upgrade to showcase or partnering\, use the Health Capital Helsinki 15% code ‘HCH15’. \n\n 
URL:https://healthcapitalhelsinki.fi/event/lsx-nordic-congress/
CATEGORIES:Events
ATTACH;FMTTYPE=image/png:https://healthcapitalhelsinki.fi/wp-content/uploads/2021/08/LSX-Nordic-Congress-scaled.png
END:VEVENT
BEGIN:VEVENT
DTSTART;VALUE=DATE:20210908
DTEND;VALUE=DATE:20210916
DTSTAMP:20260420T181648
CREATED:20210806T094543Z
LAST-MODIFIED:20210806T094543Z
UID:17853-1631059200-1631750399@healthcapitalhelsinki.fi
SUMMARY:Swiss Medtech Day 2021
DESCRIPTION:Organiser: Swiss Medtech \nDigital Health will be the major driver of healthcare in the future – and this includes the medical technology industry. Healthcare is transitioning at the moment\, with digital products requiring a rethink of innovation processes and business models. This will be the central theme of Swiss Medtech Day 2021.  \nFinland is invited to participate in the event as a guest country\, to present the Finnish way of digitalization in the public and private healthcare sector. The event is targeted for Finnish companies offering innovative contract manufacturing and different digital solutions for the healthcare sector and MedTech partners. Participation in the event offers Finnish companies the opportunity to connect with suppliers and experts\, service providers\, manufacturers and distributors from the Swiss MedTech sector. \nContact Business Finland for vouchers for free participation.
URL:https://healthcapitalhelsinki.fi/event/swiss-medtech-day-2021/
CATEGORIES:Events
ATTACH;FMTTYPE=image/png:https://healthcapitalhelsinki.fi/wp-content/uploads/2021/08/Nayttokuva-2021-08-06-kello-9.31.13.png
END:VEVENT
BEGIN:VEVENT
DTSTART;VALUE=DATE:20210914
DTEND;VALUE=DATE:20210915
DTSTAMP:20260420T181648
CREATED:20210805T145537Z
LAST-MODIFIED:20210805T145537Z
UID:17827-1631577600-1631663999@healthcapitalhelsinki.fi
SUMMARY:Telehealth Academy
DESCRIPTION:Telehealth Academy is an immersive\, eight-week program primarily for healthcare providers who dramatically accelerated telehealth during the pandemic and now need to step back\, reassess\, and develop a roadmap to integrate telehealth into their care delivery strategies post COVID. It\’s also designed for entrepreneurs who are innovating new care delivery models and technologies\, as well as executives from sponsoring organizations who represent leading companies in the healthcare ecosystem. \nThe program\, organised by The Nashville Entrepreneur Center\, will take place from September 14 to November 2\, 2021. Companies under $5M in annual revenue can use the promo code \”STARTUP\” to register for $99.
URL:https://healthcapitalhelsinki.fi/event/telehealth-academy/
CATEGORIES:Opportunities
ATTACH;FMTTYPE=image/png:https://healthcapitalhelsinki.fi/wp-content/uploads/2021/08/Nayttokuva-2021-08-05-kello-14.21.20.png
END:VEVENT
BEGIN:VEVENT
DTSTART;TZID=Europe/Helsinki:20210914T180000
DTEND;TZID=Europe/Helsinki:20210914T200000
DTSTAMP:20260420T181648
CREATED:20210816T164322Z
LAST-MODIFIED:20210816T164322Z
UID:17946-1631642400-1631649600@healthcapitalhelsinki.fi
SUMMARY:How AI is Catalyzing Healthcare Innovation – The Latest Hot Topics
DESCRIPTION:Organiser: Helsinki Business Hub\, Amcham Finland and the U.S. Embassy in Finland \nAI is literally changing life as we know it. From cancer diagnostics and early disease detection to patient follow-up\, AI and robotics are rapidly transforming healthcare operations globally. \nAs an established company\, startup\, or investor\, how can you benefit from these innovations\, and how can you develop successful collaborations within the Finnish health ecosystem? \nNow is your chance to hear the latest breakthroughs\, trends and projects directly from the experts! Join the Future of Health Webinar to hear speakers from business\, research institutions and entrepreneurial ventures in Finland\, who will share their views and knowledge before opening up for your questions.
URL:https://healthcapitalhelsinki.fi/event/how-ai-is-catalyzing-healthcare-innovation-the-latest-hot-topics/
CATEGORIES:Events
ATTACH;FMTTYPE=image/jpeg:https://healthcapitalhelsinki.fi/wp-content/uploads/2021/08/AI-in-healthcare-HBH.jpeg
END:VEVENT
END:VCALENDAR