BEGIN:VCALENDAR
VERSION:2.0
PRODID:-//Health Capital Helsinki - ECPv6.15.20//NONSGML v1.0//EN
CALSCALE:GREGORIAN
METHOD:PUBLISH
X-WR-CALNAME:Health Capital Helsinki
X-ORIGINAL-URL:https://healthcapitalhelsinki.fi
X-WR-CALDESC:Events for Health Capital Helsinki
REFRESH-INTERVAL;VALUE=DURATION:PT1H
X-Robots-Tag:noindex
X-PUBLISHED-TTL:PT1H
BEGIN:VTIMEZONE
TZID:Europe/Helsinki
BEGIN:DAYLIGHT
TZOFFSETFROM:+0200
TZOFFSETTO:+0300
TZNAME:EEST
DTSTART:20200329T010000
END:DAYLIGHT
BEGIN:STANDARD
TZOFFSETFROM:+0300
TZOFFSETTO:+0200
TZNAME:EET
DTSTART:20201025T010000
END:STANDARD
BEGIN:DAYLIGHT
TZOFFSETFROM:+0200
TZOFFSETTO:+0300
TZNAME:EEST
DTSTART:20210328T010000
END:DAYLIGHT
BEGIN:STANDARD
TZOFFSETFROM:+0300
TZOFFSETTO:+0200
TZNAME:EET
DTSTART:20211031T010000
END:STANDARD
BEGIN:DAYLIGHT
TZOFFSETFROM:+0200
TZOFFSETTO:+0300
TZNAME:EEST
DTSTART:20220327T010000
END:DAYLIGHT
BEGIN:STANDARD
TZOFFSETFROM:+0300
TZOFFSETTO:+0200
TZNAME:EET
DTSTART:20221030T010000
END:STANDARD
END:VTIMEZONE
BEGIN:VEVENT
DTSTART;TZID=Europe/Helsinki:20210902T113000
DTEND;TZID=Europe/Helsinki:20210902T133000
DTSTAMP:20260420T181603
CREATED:20210624T153757Z
LAST-MODIFIED:20210624T153757Z
UID:17735-1630582200-1630589400@healthcapitalhelsinki.fi
SUMMARY:Understanding the UK diagnostics market
DESCRIPTION:Organiser: Business Finland and South East Health Technologies Alliance \nAs a part of the targeted activities for the manufacturing industry\, Business Finland’s Smart Life Finland program and South East Health Technologies Alliance (SEHTA) are organizing a kick-off webinar on the structure of the diagnostics market in the UK post-covid on Thursday\, September 2\, 2021\, at 11:30-13:30 EEST.
URL:https://healthcapitalhelsinki.fi/event/uk-diagnostics-market/
CATEGORIES:Events
ATTACH;FMTTYPE=image/png:https://healthcapitalhelsinki.fi/wp-content/uploads/2021/06/Nayttokuva-2021-06-24-kello-15.39.11.png
END:VEVENT
BEGIN:VEVENT
DTSTART;TZID=Europe/Helsinki:20210902T170000
DTEND;TZID=Europe/Helsinki:20210902T180000
DTSTAMP:20260420T181603
CREATED:20210818T155034Z
LAST-MODIFIED:20210818T155034Z
UID:17963-1630602000-1630605600@healthcapitalhelsinki.fi
SUMMARY:Bridging MedTech to America Webinar Series: Optum Labs / UHC
DESCRIPTION:Organiser: MedTech Bridge \nLearn about the Optum Labs (UHC) approach to partnering and what’s on their shopping list with a focus on Early Detection of Disease \nInventing the future of healthcare requires a diverse team of experts in a variety of fields such as basic science\, clinical research\, data analytics\, data science and technology. OptumLabs\, a Minneapolis based subsidiary of UnitedHealth Group\, is developing innovations through internal teams and partnerships with health tech firms of all sizes. \nFor Global MedTech innovators\, partnering with one of the largest health companies in the world\, such as Optum and UHC\, may seem out of reach. Tune in to the webinar and hear about OptumLabs and what they are searching for in potential MedTech partners to help them tackle massive healthcare challenges. Beyond introductions\, there\’ll be a deeper dive into one of Optum Labs key initiatives – Early Detection of Disease.
URL:https://healthcapitalhelsinki.fi/event/bridging-medtech-to-america-webinar-series-optum-labs-uhc-prat-verma/
CATEGORIES:Events
ATTACH;FMTTYPE=image/png:https://healthcapitalhelsinki.fi/wp-content/uploads/2021/08/Screenshot-2021-08-18-at-15.49.23.png
END:VEVENT
END:VCALENDAR