BEGIN:VCALENDAR
VERSION:2.0
PRODID:-//Health Capital Helsinki - ECPv6.15.20//NONSGML v1.0//EN
CALSCALE:GREGORIAN
METHOD:PUBLISH
X-WR-CALNAME:Health Capital Helsinki
X-ORIGINAL-URL:https://healthcapitalhelsinki.fi
X-WR-CALDESC:Events for Health Capital Helsinki
REFRESH-INTERVAL;VALUE=DURATION:PT1H
X-Robots-Tag:noindex
X-PUBLISHED-TTL:PT1H
BEGIN:VTIMEZONE
TZID:Europe/Helsinki
BEGIN:DAYLIGHT
TZOFFSETFROM:+0200
TZOFFSETTO:+0300
TZNAME:EEST
DTSTART:20200329T010000
END:DAYLIGHT
BEGIN:STANDARD
TZOFFSETFROM:+0300
TZOFFSETTO:+0200
TZNAME:EET
DTSTART:20201025T010000
END:STANDARD
BEGIN:DAYLIGHT
TZOFFSETFROM:+0200
TZOFFSETTO:+0300
TZNAME:EEST
DTSTART:20210328T010000
END:DAYLIGHT
BEGIN:STANDARD
TZOFFSETFROM:+0300
TZOFFSETTO:+0200
TZNAME:EET
DTSTART:20211031T010000
END:STANDARD
BEGIN:DAYLIGHT
TZOFFSETFROM:+0200
TZOFFSETTO:+0300
TZNAME:EEST
DTSTART:20220327T010000
END:DAYLIGHT
BEGIN:STANDARD
TZOFFSETFROM:+0300
TZOFFSETTO:+0200
TZNAME:EET
DTSTART:20221030T010000
END:STANDARD
END:VTIMEZONE
BEGIN:VEVENT
DTSTART;TZID=Europe/Helsinki:20210901T130000
DTEND;TZID=Europe/Helsinki:20210901T143000
DTSTAMP:20260420T181603
CREATED:20210819T123844Z
LAST-MODIFIED:20210819T123844Z
UID:17978-1630501200-1630506600@healthcapitalhelsinki.fi
SUMMARY:From Lab to Market x FCAI – Innovation Around Artificial Intelligence
DESCRIPTION:Organiser: Aalto Ventures Program\, VTT Launchpad\, Aalto Startup Center and Aalto Innovation Services in collaboration with FCAI \nJoin the From Lab to Market event to discover three different stories of how to create radical innovation with and around artificial intelligence to solve real-life problems\, shared by scientists turned entrepreneurs and innovators themselves!
URL:https://healthcapitalhelsinki.fi/event/from-lab-to-market-x-fcai-innovation-around-artificial-intelligence/
CATEGORIES:Events
ATTACH;FMTTYPE=image/png:https://healthcapitalhelsinki.fi/wp-content/uploads/2021/08/Researchers_Visuals_08_Banner-1080x540-1.png
END:VEVENT
BEGIN:VEVENT
DTSTART;TZID=Europe/Helsinki:20210901T160000
DTEND;TZID=Europe/Helsinki:20210901T180000
DTSTAMP:20260420T181603
CREATED:20210819T131336Z
LAST-MODIFIED:20210819T131336Z
UID:17988-1630512000-1630519200@healthcapitalhelsinki.fi
SUMMARY:US Digital Health & Working with the US government: How to make it happen
DESCRIPTION:Organiser: Business Finland \nPlease join us to learn how digital health is implemented in the US public health sector – the Department of Defense\, the US Navy\, the Veterans Administration\, and the NIH (National Institutes of Health). We will map out how each agency works\, \”How to\” contact and talk with them\, and explore possible opportunities for co-development\, collaborative research\, and pilots for Finnish companies. \nYou will learn about US healthcare structure\, Biden administration\’s healthcare objectives\, post-Covid trends and issues\, and about the Federal Health IT Strategy.
URL:https://healthcapitalhelsinki.fi/event/us-digital-health-working-with-the-us-government-how-to-make-it-happen/
CATEGORIES:Events
ATTACH;FMTTYPE=image/jpeg:https://healthcapitalhelsinki.fi/wp-content/uploads/2021/08/usa_newyork_original.jpeg
END:VEVENT
END:VCALENDAR