BEGIN:VCALENDAR
VERSION:2.0
PRODID:-//Health Capital Helsinki - ECPv6.15.20//NONSGML v1.0//EN
CALSCALE:GREGORIAN
METHOD:PUBLISH
X-WR-CALNAME:Health Capital Helsinki
X-ORIGINAL-URL:https://healthcapitalhelsinki.fi
X-WR-CALDESC:Events for Health Capital Helsinki
REFRESH-INTERVAL;VALUE=DURATION:PT1H
X-Robots-Tag:noindex
X-PUBLISHED-TTL:PT1H
BEGIN:VTIMEZONE
TZID:Europe/Helsinki
BEGIN:DAYLIGHT
TZOFFSETFROM:+0200
TZOFFSETTO:+0300
TZNAME:EEST
DTSTART:20200329T010000
END:DAYLIGHT
BEGIN:STANDARD
TZOFFSETFROM:+0300
TZOFFSETTO:+0200
TZNAME:EET
DTSTART:20201025T010000
END:STANDARD
BEGIN:DAYLIGHT
TZOFFSETFROM:+0200
TZOFFSETTO:+0300
TZNAME:EEST
DTSTART:20210328T010000
END:DAYLIGHT
BEGIN:STANDARD
TZOFFSETFROM:+0300
TZOFFSETTO:+0200
TZNAME:EET
DTSTART:20211031T010000
END:STANDARD
BEGIN:DAYLIGHT
TZOFFSETFROM:+0200
TZOFFSETTO:+0300
TZNAME:EEST
DTSTART:20220327T010000
END:DAYLIGHT
BEGIN:STANDARD
TZOFFSETFROM:+0300
TZOFFSETTO:+0200
TZNAME:EET
DTSTART:20221030T010000
END:STANDARD
END:VTIMEZONE
BEGIN:VEVENT
DTSTART;VALUE=DATE:20210831
DTEND;VALUE=DATE:20210901
DTSTAMP:20260420T181609
CREATED:20210617T143908Z
LAST-MODIFIED:20210617T143908Z
UID:17643-1630368000-1630454399@healthcapitalhelsinki.fi
SUMMARY:Prevention Accelerator: Calling startups with digital solutions to obesity
DESCRIPTION:Are you a start-up that can utilise digital solutions to predict and/or prevent the rise of obesity? \nNovo Nordisk is inviting startups developing digital solutions that enable individuals and/or societies to predict and/or prevent the rise of obesity to join The Prevention Accelerator. Apply by 31 August! \nWhy participate? \n\n100\,000 USD start-up funding (~81\,000 EUR / ~600\,000 DKK) to test your idea and implement a pilot together with Novo Nordisk\nNetwork connections with other organisations and investors through our partner PlugnPlay Creasphere\nMentoring and support from our experts during the pilot implementation\nOffice space at Health Tech Hub Copenhagen\, our partner and the hottest digital healthcare start-up location in the city (COVID-19 restrictions may apply)
URL:https://healthcapitalhelsinki.fi/event/prevention-accelerator-calling-startups-with-digital-solutions-to-obesity/
CATEGORIES:Opportunities
ATTACH;FMTTYPE=image/png:https://healthcapitalhelsinki.fi/wp-content/uploads/2021/06/Screenshot-2021-06-17-at-14.37.29.png
END:VEVENT
BEGIN:VEVENT
DTSTART;TZID=Europe/Helsinki:20210831T160000
DTEND;TZID=Europe/Helsinki:20210831T173000
DTSTAMP:20260420T181609
CREATED:20210825T132753Z
LAST-MODIFIED:20210825T132753Z
UID:18047-1630425600-1630431000@healthcapitalhelsinki.fi
SUMMARY:Resistomap’s antibiotic resistance monitoring service
DESCRIPTION:Organiser: Resistomap \nTogether with Resistomap’s esteemed scientific advisor Prof. James Tiedje we will discuss the science behind Resistomap\’s antibiotic resistance monitoring service. \nWe will also take a look at some of the problematic ARGs and its prevalence in the environment. In addition\, we will introduce Resistomap’s service to monitor ARGs from different types of environmental samples and a few examples of projects that we conducted with our customers. \nThe presentations will be followed by a roundtable discussion with the opportunity for the audience to ask questions.
URL:https://healthcapitalhelsinki.fi/event/resistomaps-antibiotic-resistance-monitoring-service/
CATEGORIES:Events
ATTACH;FMTTYPE=image/png:https://healthcapitalhelsinki.fi/wp-content/uploads/2021/08/Resistomap-webinar.png
END:VEVENT
END:VCALENDAR