BEGIN:VCALENDAR
VERSION:2.0
PRODID:-//Health Capital Helsinki - ECPv6.15.20//NONSGML v1.0//EN
CALSCALE:GREGORIAN
METHOD:PUBLISH
X-WR-CALNAME:Health Capital Helsinki
X-ORIGINAL-URL:https://healthcapitalhelsinki.fi
X-WR-CALDESC:Events for Health Capital Helsinki
REFRESH-INTERVAL;VALUE=DURATION:PT1H
X-Robots-Tag:noindex
X-PUBLISHED-TTL:PT1H
BEGIN:VTIMEZONE
TZID:Europe/Helsinki
BEGIN:DAYLIGHT
TZOFFSETFROM:+0200
TZOFFSETTO:+0300
TZNAME:EEST
DTSTART:20200329T010000
END:DAYLIGHT
BEGIN:STANDARD
TZOFFSETFROM:+0300
TZOFFSETTO:+0200
TZNAME:EET
DTSTART:20201025T010000
END:STANDARD
BEGIN:DAYLIGHT
TZOFFSETFROM:+0200
TZOFFSETTO:+0300
TZNAME:EEST
DTSTART:20210328T010000
END:DAYLIGHT
BEGIN:STANDARD
TZOFFSETFROM:+0300
TZOFFSETTO:+0200
TZNAME:EET
DTSTART:20211031T010000
END:STANDARD
BEGIN:DAYLIGHT
TZOFFSETFROM:+0200
TZOFFSETTO:+0300
TZNAME:EEST
DTSTART:20220327T010000
END:DAYLIGHT
BEGIN:STANDARD
TZOFFSETFROM:+0300
TZOFFSETTO:+0200
TZNAME:EET
DTSTART:20221030T010000
END:STANDARD
END:VTIMEZONE
BEGIN:VEVENT
DTSTART;VALUE=DATE:20210528
DTEND;VALUE=DATE:20210529
DTSTAMP:20260420T235239
CREATED:20210524T121802Z
LAST-MODIFIED:20210524T121802Z
UID:17130-1622160000-1622246399@healthcapitalhelsinki.fi
SUMMARY:Team Finland online delegation in collaboration with AstraZeneca and GlaxoSmithKline
DESCRIPTION:Team Finland online delegation is organised in collaboration with AstraZeneca and GlaxoSmithKline on 5-6 October 2021. \nApply for the delegation by 28 May 2021 to learn more about the R&D needs and opportunities of these two world-leading pharmaceutical companies.
URL:https://healthcapitalhelsinki.fi/event/team-finland-online-delegation-in-collaboration-with-astrazeneca-and-glaxosmithkline/
CATEGORIES:Opportunities
ATTACH;FMTTYPE=image/jpeg:https://healthcapitalhelsinki.fi/wp-content/uploads/2021/05/team-finland-online-delegation.jpeg
END:VEVENT
BEGIN:VEVENT
DTSTART;VALUE=DATE:20210528
DTEND;VALUE=DATE:20210529
DTSTAMP:20260420T235239
CREATED:20210524T122226Z
LAST-MODIFIED:20210524T122226Z
UID:17134-1622160000-1622246399@healthcapitalhelsinki.fi
SUMMARY:Call for applications: Neuroscience Partnering Day
DESCRIPTION:Join Neuroscience Partnering Day – partnering & matchmaking event on 11 November 2021 and discover new business opportunities and R&D partners in the pharmaceutical space. The goal of the event is to create meaningful connections between Finnish neuroscience innovators and global pharmaceutical companies. \nApply by 28 May 2021 to the event hosted by Business Finland and Neurocenter Finland to learn more about the R&D needs and begin conversations with potential partners.
URL:https://healthcapitalhelsinki.fi/event/call-for-applications-neuroscience-partnering-day/
CATEGORIES:Opportunities
ATTACH;FMTTYPE=image/jpeg:https://healthcapitalhelsinki.fi/wp-content/uploads/2021/05/neuroscience-partnering-day.jpeg
END:VEVENT
END:VCALENDAR