BEGIN:VCALENDAR
VERSION:2.0
PRODID:-//Health Capital Helsinki - ECPv6.15.20//NONSGML v1.0//EN
CALSCALE:GREGORIAN
METHOD:PUBLISH
X-WR-CALNAME:Health Capital Helsinki
X-ORIGINAL-URL:https://healthcapitalhelsinki.fi
X-WR-CALDESC:Events for Health Capital Helsinki
REFRESH-INTERVAL;VALUE=DURATION:PT1H
X-Robots-Tag:noindex
X-PUBLISHED-TTL:PT1H
BEGIN:VTIMEZONE
TZID:Europe/Helsinki
BEGIN:DAYLIGHT
TZOFFSETFROM:+0200
TZOFFSETTO:+0300
TZNAME:EEST
DTSTART:20200329T010000
END:DAYLIGHT
BEGIN:STANDARD
TZOFFSETFROM:+0300
TZOFFSETTO:+0200
TZNAME:EET
DTSTART:20201025T010000
END:STANDARD
BEGIN:DAYLIGHT
TZOFFSETFROM:+0200
TZOFFSETTO:+0300
TZNAME:EEST
DTSTART:20210328T010000
END:DAYLIGHT
BEGIN:STANDARD
TZOFFSETFROM:+0300
TZOFFSETTO:+0200
TZNAME:EET
DTSTART:20211031T010000
END:STANDARD
BEGIN:DAYLIGHT
TZOFFSETFROM:+0200
TZOFFSETTO:+0300
TZNAME:EEST
DTSTART:20220327T010000
END:DAYLIGHT
BEGIN:STANDARD
TZOFFSETFROM:+0300
TZOFFSETTO:+0200
TZNAME:EET
DTSTART:20221030T010000
END:STANDARD
END:VTIMEZONE
BEGIN:VEVENT
DTSTART;TZID=Europe/Helsinki:20210527T080000
DTEND;TZID=Europe/Helsinki:20210527T094500
DTSTAMP:20260420T235300
CREATED:20210224T124046Z
LAST-MODIFIED:20210224T124046Z
UID:15284-1622102400-1622108700@healthcapitalhelsinki.fi
SUMMARY:TK-toiminta ja innovaatiot terveydenhuollossa (in Finnish)
DESCRIPTION:Järjestäjä: Health Capital Helsinki\, Helsinki Business Hub ja Sailab ‒ MedTech Finland ry \nHealth Capital Helsinki\, Helsinki Business Hub ja Sailab ‒ MedTech Finland ry yhdistävät voimansa avatakseen keskustelun terveysalan innovaatioista\, T&K-toiminnasta ja investoinneista. Me suomalaiset ja terveydenhuoltojärjestelmämme tarvitsemme uutta ajattelua. \nYhteistyössä järjestettävän seminaarisarjan viides osa\, TK-toiminta ja innovaatiot terveydenhuollossa\,  järjestetään torstaina 27.5.2021. \nKatso tarkempi ohjelma tapahtumasivulta ja ilmoittaudu mukaan!
URL:https://healthcapitalhelsinki.fi/event/tk-toiminta-ja-innovaatiot-terveydenhuollossa/
CATEGORIES:Events
ATTACH;FMTTYPE=image/jpeg:https://healthcapitalhelsinki.fi/wp-content/uploads/2021/02/Sailab-seminar-photo.jpg
END:VEVENT
END:VCALENDAR