BEGIN:VCALENDAR
VERSION:2.0
PRODID:-//Health Capital Helsinki - ECPv6.15.20//NONSGML v1.0//EN
CALSCALE:GREGORIAN
METHOD:PUBLISH
X-ORIGINAL-URL:https://healthcapitalhelsinki.fi
X-WR-CALDESC:Events for Health Capital Helsinki
REFRESH-INTERVAL;VALUE=DURATION:PT1H
X-Robots-Tag:noindex
X-PUBLISHED-TTL:PT1H
BEGIN:VTIMEZONE
TZID:Europe/Helsinki
BEGIN:DAYLIGHT
TZOFFSETFROM:+0200
TZOFFSETTO:+0300
TZNAME:EEST
DTSTART:20200329T010000
END:DAYLIGHT
BEGIN:STANDARD
TZOFFSETFROM:+0300
TZOFFSETTO:+0200
TZNAME:EET
DTSTART:20201025T010000
END:STANDARD
BEGIN:DAYLIGHT
TZOFFSETFROM:+0200
TZOFFSETTO:+0300
TZNAME:EEST
DTSTART:20210328T010000
END:DAYLIGHT
BEGIN:STANDARD
TZOFFSETFROM:+0300
TZOFFSETTO:+0200
TZNAME:EET
DTSTART:20211031T010000
END:STANDARD
BEGIN:DAYLIGHT
TZOFFSETFROM:+0200
TZOFFSETTO:+0300
TZNAME:EEST
DTSTART:20220327T010000
END:DAYLIGHT
BEGIN:STANDARD
TZOFFSETFROM:+0300
TZOFFSETTO:+0200
TZNAME:EET
DTSTART:20221030T010000
END:STANDARD
END:VTIMEZONE
BEGIN:VEVENT
DTSTART;TZID=Europe/Helsinki:20210526T154500
DTEND;TZID=Europe/Helsinki:20210526T180000
DTSTAMP:20260420T235256
CREATED:20210512T104455Z
LAST-MODIFIED:20210512T104455Z
UID:17057-1622043900-1622052000@healthcapitalhelsinki.fi
SUMMARY:Mix & Match Networking Event - HEALTH
DESCRIPTION:Organisers: International Tampere with partners \nFor anyone interested in startup entrepreneurship – whether it’s joining or creating a startup team. An opportunity to network\, get inspired\, learn and discuss about the Health Tech. \nThe Mix & Match networking event is a great place for early stage innovative ideas or startup teams to find a core team member or a co-founder\, or anyone to offer their skills and experience to develop innovative business cases to the next level.
URL:https://healthcapitalhelsinki.fi/event/mix-match-networking-event-health/
CATEGORIES:Events
ATTACH;FMTTYPE=image/jpeg:https://healthcapitalhelsinki.fi/wp-content/uploads/2021/05/Mix-and-Match.jpeg
END:VEVENT
BEGIN:VEVENT
DTSTART;TZID=Europe/Helsinki:20210526T163000
DTEND;TZID=Europe/Helsinki:20210526T180000
DTSTAMP:20260420T235256
CREATED:20210512T145417Z
LAST-MODIFIED:20210512T145417Z
UID:17082-1622046600-1622052000@healthcapitalhelsinki.fi
SUMMARY:Europe - Africa Health Summit: Improving access through telehealth
DESCRIPTION:Organisers: ECHAlliance and Africa Health Federation (AHF) \nThe COVID-19 pandemic has highlighted the need for a resilient and innovative healthcare infrastructure and that healthcare should be critically thought of as infrastructure just as much as traditional forms of infrastructure. We are adapting to the new digital environment that comes with an array of implications. While keeping our eye on ventilator procurement\, hospital construction\, and vaccine development\, we must also enhance our engagement with virtual healthcare as telehealth becomes more relevant. \nThis webinar will focus on the major plans and projects in healthcare infrastructure in Africa—focusing on of the critical evolution of digital transformation. The webinar will provide the opportunity for potential collaboration among European and Africa healthcare organizations.
URL:https://healthcapitalhelsinki.fi/event/europe-africa-health-summit-improving-access-through-telehealth/
CATEGORIES:Events
ATTACH;FMTTYPE=image/png:https://healthcapitalhelsinki.fi/wp-content/uploads/2021/05/Europe-Africa-Health-Summit.png
END:VEVENT
END:VCALENDAR