BEGIN:VCALENDAR
VERSION:2.0
PRODID:-//Health Capital Helsinki - ECPv6.15.20//NONSGML v1.0//EN
CALSCALE:GREGORIAN
METHOD:PUBLISH
X-ORIGINAL-URL:https://healthcapitalhelsinki.fi
X-WR-CALDESC:Events for Health Capital Helsinki
REFRESH-INTERVAL;VALUE=DURATION:PT1H
X-Robots-Tag:noindex
X-PUBLISHED-TTL:PT1H
BEGIN:VTIMEZONE
TZID:Europe/Helsinki
BEGIN:DAYLIGHT
TZOFFSETFROM:+0200
TZOFFSETTO:+0300
TZNAME:EEST
DTSTART:20200329T010000
END:DAYLIGHT
BEGIN:STANDARD
TZOFFSETFROM:+0300
TZOFFSETTO:+0200
TZNAME:EET
DTSTART:20201025T010000
END:STANDARD
BEGIN:DAYLIGHT
TZOFFSETFROM:+0200
TZOFFSETTO:+0300
TZNAME:EEST
DTSTART:20210328T010000
END:DAYLIGHT
BEGIN:STANDARD
TZOFFSETFROM:+0300
TZOFFSETTO:+0200
TZNAME:EET
DTSTART:20211031T010000
END:STANDARD
BEGIN:DAYLIGHT
TZOFFSETFROM:+0200
TZOFFSETTO:+0300
TZNAME:EEST
DTSTART:20220327T010000
END:DAYLIGHT
BEGIN:STANDARD
TZOFFSETFROM:+0300
TZOFFSETTO:+0200
TZNAME:EET
DTSTART:20221030T010000
END:STANDARD
END:VTIMEZONE
BEGIN:VEVENT
DTSTART;VALUE=DATE:20210525
DTEND;VALUE=DATE:20210526
DTSTAMP:20260420T235256
CREATED:20210427T101805Z
LAST-MODIFIED:20210427T101805Z
UID:16846-1621900800-1621987199@healthcapitalhelsinki.fi
SUMMARY:Nordic AMPlify 2021: Accelerated U.S. Market Entry
DESCRIPTION:Nordic AMPlify\’s 2021 Program offers Nordic digital health and medtech companies the opportunity to significantly shorten their time to market by partnering with 5 U.S. health systems with over 100 hospitals and 5 leading early stage VCs. \nJoin the free virtual Launch Workshop on 25 May (sign up by 21 May) to hear an insider’s perspective on current opportunities in U.S. healthcare and cover essential topics on market entry. The workshop will prepare and qualify you to apply for the virtual learning program and a week-long U.S. Discovery Tour in North Carolina. All companies receive investor and clinical feedback\, business mentoring\, access to pilots and co-development\, and the potential to grow in a pro-Nordic healthcare environment.
URL:https://healthcapitalhelsinki.fi/event/nordic-amplify-2021-accelerated-u-s-market-entry/
CATEGORIES:Opportunities
ATTACH;FMTTYPE=image/png:https://healthcapitalhelsinki.fi/wp-content/uploads/2021/04/Screenshot-2021-04-27-at-10.10.50.png
END:VEVENT
BEGIN:VEVENT
DTSTART;VALUE=DATE:20210525
DTEND;VALUE=DATE:20210526
DTSTAMP:20260420T235256
CREATED:20210524T094505Z
LAST-MODIFIED:20210524T094505Z
UID:17119-1621900800-1621987199@healthcapitalhelsinki.fi
SUMMARY:Startup your Healthbiz
DESCRIPTION:Organisers: City of Helsinki\, Upgraded and Vertical \nThe event is aimed at students\, researchers and anyone interested in learning about the healthcare business sector. \nDuring the series of talks hosted on Day 1\, 25 May\, you will learn about running a startup within the Healthcare sector and how to take the next steps in starting your own Healthbiz venture. \nThe topics range from first-hand accounts from Healthtech founders\, to practical advice on IP processes\, succeeding at funding\, and pitching. Each topic is presented by an expert in that field. Additional program content for on the discussed topics is available for registered teams on Day 2 and 3 of the 3-Day Booster.
URL:https://healthcapitalhelsinki.fi/event/startup-your-healthbiz/
CATEGORIES:Events
ATTACH;FMTTYPE=image/png:https://healthcapitalhelsinki.fi/wp-content/uploads/2021/05/City-of-Helsinki-Startup-Your-Healthbiz-Marketing-Image.png
END:VEVENT
BEGIN:VEVENT
DTSTART;TZID=Europe/Helsinki:20210525T090000
DTEND;TZID=Europe/Helsinki:20210525T134500
DTSTAMP:20260420T235256
CREATED:20210504T125323Z
LAST-MODIFIED:20210504T125323Z
UID:16991-1621933200-1621950300@healthcapitalhelsinki.fi
SUMMARY:Suomi terveysmatkailun maailmankartalle (in Finnish)
DESCRIPTION:Järjestäjä: Visit Finland\, Suomen Terveysmatkailu ry ja Savonia-ammattikorkeakoulu \nSeminaari järjestetään Kuopiossa\, mutta siihen voi osallistua myös etäyhteydellä. \n 
URL:https://healthcapitalhelsinki.fi/event/suomi-terveysmatkailun-maailmankartalle-in-finnish/
CATEGORIES:Events
ATTACH;FMTTYPE=image/jpeg:https://healthcapitalhelsinki.fi/wp-content/uploads/2021/05/adobestock_165077996_valkovuokot.jpeg
END:VEVENT
END:VCALENDAR