BEGIN:VCALENDAR
VERSION:2.0
PRODID:-//Health Capital Helsinki - ECPv6.15.20//NONSGML v1.0//EN
CALSCALE:GREGORIAN
METHOD:PUBLISH
X-WR-CALNAME:Health Capital Helsinki
X-ORIGINAL-URL:https://healthcapitalhelsinki.fi
X-WR-CALDESC:Events for Health Capital Helsinki
REFRESH-INTERVAL;VALUE=DURATION:PT1H
X-Robots-Tag:noindex
X-PUBLISHED-TTL:PT1H
BEGIN:VTIMEZONE
TZID:Europe/Helsinki
BEGIN:DAYLIGHT
TZOFFSETFROM:+0200
TZOFFSETTO:+0300
TZNAME:EEST
DTSTART:20200329T010000
END:DAYLIGHT
BEGIN:STANDARD
TZOFFSETFROM:+0300
TZOFFSETTO:+0200
TZNAME:EET
DTSTART:20201025T010000
END:STANDARD
BEGIN:DAYLIGHT
TZOFFSETFROM:+0200
TZOFFSETTO:+0300
TZNAME:EEST
DTSTART:20210328T010000
END:DAYLIGHT
BEGIN:STANDARD
TZOFFSETFROM:+0300
TZOFFSETTO:+0200
TZNAME:EET
DTSTART:20211031T010000
END:STANDARD
BEGIN:DAYLIGHT
TZOFFSETFROM:+0200
TZOFFSETTO:+0300
TZNAME:EEST
DTSTART:20220327T010000
END:DAYLIGHT
BEGIN:STANDARD
TZOFFSETFROM:+0300
TZOFFSETTO:+0200
TZNAME:EET
DTSTART:20221030T010000
END:STANDARD
END:VTIMEZONE
BEGIN:VEVENT
DTSTART;TZID=Europe/Helsinki:20210520T160000
DTEND;TZID=Europe/Helsinki:20210520T171500
DTSTAMP:20260420T235240
CREATED:20210413T145947Z
LAST-MODIFIED:20210413T145947Z
UID:16632-1621526400-1621530900@healthcapitalhelsinki.fi
SUMMARY:FIMM Meets Pharma: Why FIMM\, Why Fin­land?
DESCRIPTION:Organiser: FIMM in collaboration with Health Capital Helsinki \nThe Institute for Molecular Medicine Finland (FIMM) has for several years been spearheading collaborations from the University of Helsinki with pharmaceutical companies. FIMM Meets Pharma webinar series aims to showcase the current scientific frameworks and technological capabilities of FIMM and to spark interest in the pharmaceutical partners for new projects and collaborations. The webinar series will also showcase some of the examples of successful research collaboration between our research community and Finnish and international pharmaceutical companies. \nCheck the agenda of the first event on 20 May and sign up now!
URL:https://healthcapitalhelsinki.fi/event/fimm-meets-pharma-why-fimm-why-finland/
CATEGORIES:Events
ATTACH;FMTTYPE=image/png:https://healthcapitalhelsinki.fi/wp-content/uploads/2021/04/FIMM-meets-Pharma-webinar-1.png
END:VEVENT
END:VCALENDAR