BEGIN:VCALENDAR
VERSION:2.0
PRODID:-//Health Capital Helsinki - ECPv6.15.20//NONSGML v1.0//EN
CALSCALE:GREGORIAN
METHOD:PUBLISH
X-WR-CALNAME:Health Capital Helsinki
X-ORIGINAL-URL:https://healthcapitalhelsinki.fi
X-WR-CALDESC:Events for Health Capital Helsinki
REFRESH-INTERVAL;VALUE=DURATION:PT1H
X-Robots-Tag:noindex
X-PUBLISHED-TTL:PT1H
BEGIN:VTIMEZONE
TZID:Europe/Helsinki
BEGIN:DAYLIGHT
TZOFFSETFROM:+0200
TZOFFSETTO:+0300
TZNAME:EEST
DTSTART:20200329T010000
END:DAYLIGHT
BEGIN:STANDARD
TZOFFSETFROM:+0300
TZOFFSETTO:+0200
TZNAME:EET
DTSTART:20201025T010000
END:STANDARD
BEGIN:DAYLIGHT
TZOFFSETFROM:+0200
TZOFFSETTO:+0300
TZNAME:EEST
DTSTART:20210328T010000
END:DAYLIGHT
BEGIN:STANDARD
TZOFFSETFROM:+0300
TZOFFSETTO:+0200
TZNAME:EET
DTSTART:20211031T010000
END:STANDARD
BEGIN:DAYLIGHT
TZOFFSETFROM:+0200
TZOFFSETTO:+0300
TZNAME:EEST
DTSTART:20220327T010000
END:DAYLIGHT
BEGIN:STANDARD
TZOFFSETFROM:+0300
TZOFFSETTO:+0200
TZNAME:EET
DTSTART:20221030T010000
END:STANDARD
END:VTIMEZONE
BEGIN:VEVENT
DTSTART;VALUE=DATE:20210518
DTEND;VALUE=DATE:20210519
DTSTAMP:20260420T235300
CREATED:20210422T160824Z
LAST-MODIFIED:20210422T160824Z
UID:16745-1621296000-1621382399@healthcapitalhelsinki.fi
SUMMARY:Finnish-German partnering for joint innovation funding
DESCRIPTION:The event is on 26 May (11am–12.30pm Finnish time) but please note that the registration deadline for the pitching is 18 May. \nBusiness Finland and German ZIM programme are looking for inspiring market-oriented joint projects between small and medium-sized enterprises in Finland and Germany. This time also research institutes in Finland can participate in the call. This is done by co-innovation funding tool: If one or more research organizations are involved in the co-innovation project\, there must also be at least three companies\, which have applied for Business Finland funding for their R&D project. \nCome hear more about the German-Finnish ZIM innovation call\, organized as a part of Business Finland\’s Smart Life Finland program\, and use the opportunity to pitch your company or project idea for a joint innovation project or to generate new business contacts.
URL:https://healthcapitalhelsinki.fi/event/finnish-german-partnering-for-joint-innovation-funding/
CATEGORIES:Opportunities
ATTACH;FMTTYPE=image/jpeg:https://healthcapitalhelsinki.fi/wp-content/uploads/2021/04/zim-kuva.jpeg
END:VEVENT
BEGIN:VEVENT
DTSTART;TZID=Europe/Helsinki:20210518T170000
DTEND;TZID=Europe/Helsinki:20210518T190000
DTSTAMP:20260420T235300
CREATED:20210428T135851Z
LAST-MODIFIED:20210428T135851Z
UID:16892-1621357200-1621364400@healthcapitalhelsinki.fi
SUMMARY:HELSEED workshops: Making estimations
DESCRIPTION:Organisers: Helsinki Think Company and University of Helsinki \nHELSEED workshop series contains all the things you need to consider when setting up shop: starting from crystallising an idea you might have\, to preparing a solid business plan\, making a budget\, estimating revenue streams\, testing your idea in a safe space and prepping for negotiating with investors. \nThis workshop gives teams tools to understand their cost structure and estimate the potential revenue streams. \nHELSEED workshops are open for students\, graduates\, researchers\, startups\, HELSEED teams\, and everyone with a curious mind. Read more about the HELSEED programme aiming at inspiring students to develop their ideas into startups.
URL:https://healthcapitalhelsinki.fi/event/helseed-2021-programme-copy-2/
CATEGORIES:Events
ATTACH;FMTTYPE=image/jpeg:https://healthcapitalhelsinki.fi/wp-content/uploads/2021/04/HELSEED-workshops.jpeg
END:VEVENT
END:VCALENDAR