BEGIN:VCALENDAR
VERSION:2.0
PRODID:-//Health Capital Helsinki - ECPv6.15.20//NONSGML v1.0//EN
CALSCALE:GREGORIAN
METHOD:PUBLISH
X-WR-CALNAME:Health Capital Helsinki
X-ORIGINAL-URL:https://healthcapitalhelsinki.fi
X-WR-CALDESC:Events for Health Capital Helsinki
REFRESH-INTERVAL;VALUE=DURATION:PT1H
X-Robots-Tag:noindex
X-PUBLISHED-TTL:PT1H
BEGIN:VTIMEZONE
TZID:Europe/Helsinki
BEGIN:DAYLIGHT
TZOFFSETFROM:+0200
TZOFFSETTO:+0300
TZNAME:EEST
DTSTART:20200329T010000
END:DAYLIGHT
BEGIN:STANDARD
TZOFFSETFROM:+0300
TZOFFSETTO:+0200
TZNAME:EET
DTSTART:20201025T010000
END:STANDARD
BEGIN:DAYLIGHT
TZOFFSETFROM:+0200
TZOFFSETTO:+0300
TZNAME:EEST
DTSTART:20210328T010000
END:DAYLIGHT
BEGIN:STANDARD
TZOFFSETFROM:+0300
TZOFFSETTO:+0200
TZNAME:EET
DTSTART:20211031T010000
END:STANDARD
BEGIN:DAYLIGHT
TZOFFSETFROM:+0200
TZOFFSETTO:+0300
TZNAME:EEST
DTSTART:20220327T010000
END:DAYLIGHT
BEGIN:STANDARD
TZOFFSETFROM:+0300
TZOFFSETTO:+0200
TZNAME:EET
DTSTART:20221030T010000
END:STANDARD
END:VTIMEZONE
BEGIN:VEVENT
DTSTART;TZID=Europe/Helsinki:20210512T080000
DTEND;TZID=Europe/Helsinki:20210512T094500
DTSTAMP:20260420T235300
CREATED:20210224T124448Z
LAST-MODIFIED:20210224T124448Z
UID:15287-1620806400-1620812700@healthcapitalhelsinki.fi
SUMMARY:Innovatiivinen yhteistyö huipputeknologian hankinnoissa (in Finnish)
DESCRIPTION:Järjestäjä: Health Capital Helsinki\, Helsinki Business Hub ja Sailab ‒ MedTech Finland ry \nHealth Capital Helsinki\, Helsinki Business Hub ja Sailab ‒ MedTech Finland ry yhdistävät voimansa avatakseen keskustelun terveysalan innovaatioista\, T&K-toiminnasta ja investoinneista. Me suomalaiset ja terveydenhuoltojärjestelmämme tarvitsemme uutta ajattelua. \nYhteistyössä järjestettävän seminaarisarjan neljäs osa\, Innovatiivinen yhteistyö huipputeknologian hankinnoissa\, järjestetään keskiviikkona 12.5.2021. \nKatso tarkempi ohjelma tapahtumasivulta ja ilmoittaudu mukaan!
URL:https://healthcapitalhelsinki.fi/event/tk-toiminta-ja-innovaatiot-terveydenhuollossa-copy/
CATEGORIES:Events
ATTACH;FMTTYPE=image/jpeg:https://healthcapitalhelsinki.fi/wp-content/uploads/2021/02/Sailab-seminar-photo.jpg
END:VEVENT
BEGIN:VEVENT
DTSTART;TZID=Europe/Helsinki:20210512T160000
DTEND;TZID=Europe/Helsinki:20210512T170000
DTSTAMP:20260420T235300
CREATED:20210507T110741Z
LAST-MODIFIED:20210507T110741Z
UID:17042-1620835200-1620838800@healthcapitalhelsinki.fi
SUMMARY:Lifting the stigma – Startup Founders\' Mental Health Panel
DESCRIPTION:Organiser: Startup Foundation \nStartup Foundation is excited to welcome you to a panel discussion with Matus Maar\, Managing Partner at Talis Capital\, Elina Arponen\, CEO of Quicksave Interactive\, Tuure Parkkinen\, VP of Partnerships at Meru Health and Tiina Zilliacus\, a serial entrepreneur. With the guests\, we’ll dive into the topic of mental health among the startup ecosystem. In the discussions we strive to get concrete advice for founders and startup operators on how to keep their mental health in check and what to do when you need support.
URL:https://healthcapitalhelsinki.fi/event/lifting-the-stigma-startup-founders-mental-health-panel/
CATEGORIES:Events
ATTACH;FMTTYPE=image/png:https://healthcapitalhelsinki.fi/wp-content/uploads/2021/05/Artboard-98.png
END:VEVENT
END:VCALENDAR