BEGIN:VCALENDAR
VERSION:2.0
PRODID:-//Health Capital Helsinki - ECPv6.15.20//NONSGML v1.0//EN
CALSCALE:GREGORIAN
METHOD:PUBLISH
X-WR-CALNAME:Health Capital Helsinki
X-ORIGINAL-URL:https://healthcapitalhelsinki.fi
X-WR-CALDESC:Events for Health Capital Helsinki
REFRESH-INTERVAL;VALUE=DURATION:PT1H
X-Robots-Tag:noindex
X-PUBLISHED-TTL:PT1H
BEGIN:VTIMEZONE
TZID:Europe/Helsinki
BEGIN:DAYLIGHT
TZOFFSETFROM:+0200
TZOFFSETTO:+0300
TZNAME:EEST
DTSTART:20200329T010000
END:DAYLIGHT
BEGIN:STANDARD
TZOFFSETFROM:+0300
TZOFFSETTO:+0200
TZNAME:EET
DTSTART:20201025T010000
END:STANDARD
BEGIN:DAYLIGHT
TZOFFSETFROM:+0200
TZOFFSETTO:+0300
TZNAME:EEST
DTSTART:20210328T010000
END:DAYLIGHT
BEGIN:STANDARD
TZOFFSETFROM:+0300
TZOFFSETTO:+0200
TZNAME:EET
DTSTART:20211031T010000
END:STANDARD
BEGIN:DAYLIGHT
TZOFFSETFROM:+0200
TZOFFSETTO:+0300
TZNAME:EEST
DTSTART:20220327T010000
END:DAYLIGHT
BEGIN:STANDARD
TZOFFSETFROM:+0300
TZOFFSETTO:+0200
TZNAME:EET
DTSTART:20221030T010000
END:STANDARD
END:VTIMEZONE
BEGIN:VEVENT
DTSTART;TZID=Europe/Helsinki:20210505T090000
DTEND;TZID=Europe/Helsinki:20210505T110000
DTSTAMP:20260420T235238
CREATED:20210423T115028Z
LAST-MODIFIED:20210423T115028Z
UID:16766-1620205200-1620212400@healthcapitalhelsinki.fi
SUMMARY:Medical Device Risk Management & Design Controls – Digitalization
DESCRIPTION:Organiser: Taipuva \nNew Medical Device Regulation increases the importance of risk management and traceability. How to be effective and fully digital? \nWebinar presentations: \n\nTom Pessala\, Boule Medical: Risk assessment according to ISO 14971:2019 with Polarion (+ Q&A)\nTaipuva tells about a simple-to-use solution for design controls\, which automates traceability and incorporates electronic signatures and records (+ Q&A)\n\nSign up via LinkedIn event or on Taipuva\’s website.
URL:https://healthcapitalhelsinki.fi/event/medical-device-risk-management-design-controls-digitalization/
CATEGORIES:Events
END:VEVENT
BEGIN:VEVENT
DTSTART;TZID=Europe/Helsinki:20210505T100000
DTEND;TZID=Europe/Helsinki:20210505T110000
DTSTAMP:20260420T235238
CREATED:20210420T085311Z
LAST-MODIFIED:20210420T085311Z
UID:16699-1620208800-1620212400@healthcapitalhelsinki.fi
SUMMARY:Health Talks: Health Technology Assessment
DESCRIPTION:Organisers: OuluHealth and Terkko Health Hub \nDuring the webinar\, you will learn about health technology assessment (HTA) and the new standard for health & wellness apps. \nDigiHealth HUB at the University of Oulu – Faculty of Medicine together with the Finnish Coordinating Center for Health Technology Assessment (FinCCHTA) has developed new assessment methods called Digi-HTA for healthcare digital solutions\, as the current assessment process does not fully consider the specific needs of new technical solutions. In developing the assessment methods\, the perspective of companies is particularly taken into consideration. \nThe standardization communities in CEN\, CENELEC\, ISO and IEC on health and wellness apps have jointly developed technical specification of Health software – Part 2: Health and wellness apps – Quality and reliability (ISO/DTS 82304-2:2021). This will provide a set of requirements for developers of health and wellness apps\, intending to meet the needs of health care professionals\, patients\, carers and the wider public.
URL:https://healthcapitalhelsinki.fi/event/health-talks-health-technology-assessment/
CATEGORIES:Events
ATTACH;FMTTYPE=image/png:https://healthcapitalhelsinki.fi/wp-content/uploads/2021/04/Health-Talks-banner-final.png
END:VEVENT
END:VCALENDAR