BEGIN:VCALENDAR
VERSION:2.0
PRODID:-//Health Capital Helsinki - ECPv6.15.20//NONSGML v1.0//EN
CALSCALE:GREGORIAN
METHOD:PUBLISH
X-ORIGINAL-URL:https://healthcapitalhelsinki.fi
X-WR-CALDESC:Events for Health Capital Helsinki
REFRESH-INTERVAL;VALUE=DURATION:PT1H
X-Robots-Tag:noindex
X-PUBLISHED-TTL:PT1H
BEGIN:VTIMEZONE
TZID:Europe/Helsinki
BEGIN:DAYLIGHT
TZOFFSETFROM:+0200
TZOFFSETTO:+0300
TZNAME:EEST
DTSTART:20200329T010000
END:DAYLIGHT
BEGIN:STANDARD
TZOFFSETFROM:+0300
TZOFFSETTO:+0200
TZNAME:EET
DTSTART:20201025T010000
END:STANDARD
BEGIN:DAYLIGHT
TZOFFSETFROM:+0200
TZOFFSETTO:+0300
TZNAME:EEST
DTSTART:20210328T010000
END:DAYLIGHT
BEGIN:STANDARD
TZOFFSETFROM:+0300
TZOFFSETTO:+0200
TZNAME:EET
DTSTART:20211031T010000
END:STANDARD
BEGIN:DAYLIGHT
TZOFFSETFROM:+0200
TZOFFSETTO:+0300
TZNAME:EEST
DTSTART:20220327T010000
END:DAYLIGHT
BEGIN:STANDARD
TZOFFSETFROM:+0300
TZOFFSETTO:+0200
TZNAME:EET
DTSTART:20221030T010000
END:STANDARD
END:VTIMEZONE
BEGIN:VEVENT
DTSTART;TZID=Europe/Helsinki:20210504T080000
DTEND;TZID=Europe/Helsinki:20210504T101500
DTSTAMP:20260420T235259
CREATED:20210420T084433Z
LAST-MODIFIED:20210420T084433Z
UID:16695-1620115200-1620123300@healthcapitalhelsinki.fi
SUMMARY:Health Tuesday: Regenerative medicine
DESCRIPTION:Organiser: Business Finland \nWhat is regenerative medicine\, how can it change healthcare and what type of innovation & business opportunities does it provide? By definition\, regenerative medicine is the branch of medicine that develops methods to regrow\, repair or replace damaged or diseased cells\, organs or tissues. Regenerative medicine includes the generation and use of therapeutic stem cells\, tissue engineering and the production of artificial organs. \nJoin Business Finland\’s May edition of Health Tuesday to network and learn more about Finnish innovation in regenerative medicine!
URL:https://healthcapitalhelsinki.fi/event/health-tuesday-regenerative-medicine/
CATEGORIES:Events
ATTACH;FMTTYPE=image/jpeg:https://healthcapitalhelsinki.fi/wp-content/uploads/2021/04/bf-regenrative-medicine.jpeg
END:VEVENT
BEGIN:VEVENT
DTSTART;TZID=Europe/Helsinki:20210504T153000
DTEND;TZID=Europe/Helsinki:20210504T163000
DTSTAMP:20260420T235259
CREATED:20210427T094401Z
LAST-MODIFIED:20210427T094401Z
UID:16839-1620142200-1620145800@healthcapitalhelsinki.fi
SUMMARY:Innovation in Neuroscience sem­inar: Pitch­ing with Con­fid­ence
DESCRIPTION:Organiser: Helsinki Brain & Mind \nWelcome to the Innovation in Neuroscience online seminar!\n\nPro­gramme: \n\nWalid O. El Cheikh; Speaker\, Mentor & Pitching Artist: Pitching with confidence\nChiara Facciotto; Coordinator of Innovation Activities at HiLIFE (University of Helsinki): The elements of a pitch
URL:https://healthcapitalhelsinki.fi/event/innovation-in-neuroscience-seminar-pitching-with-confidence/
CATEGORIES:Events
ATTACH;FMTTYPE=image/png:https://healthcapitalhelsinki.fi/wp-content/uploads/2021/04/innovationinneuro_www_1.png
END:VEVENT
END:VCALENDAR