BEGIN:VCALENDAR
VERSION:2.0
PRODID:-//Health Capital Helsinki - ECPv6.15.20//NONSGML v1.0//EN
CALSCALE:GREGORIAN
METHOD:PUBLISH
X-WR-CALNAME:Health Capital Helsinki
X-ORIGINAL-URL:https://healthcapitalhelsinki.fi
X-WR-CALDESC:Events for Health Capital Helsinki
REFRESH-INTERVAL;VALUE=DURATION:PT1H
X-Robots-Tag:noindex
X-PUBLISHED-TTL:PT1H
BEGIN:VTIMEZONE
TZID:Europe/Helsinki
BEGIN:DAYLIGHT
TZOFFSETFROM:+0200
TZOFFSETTO:+0300
TZNAME:EEST
DTSTART:20200329T010000
END:DAYLIGHT
BEGIN:STANDARD
TZOFFSETFROM:+0300
TZOFFSETTO:+0200
TZNAME:EET
DTSTART:20201025T010000
END:STANDARD
BEGIN:DAYLIGHT
TZOFFSETFROM:+0200
TZOFFSETTO:+0300
TZNAME:EEST
DTSTART:20210328T010000
END:DAYLIGHT
BEGIN:STANDARD
TZOFFSETFROM:+0300
TZOFFSETTO:+0200
TZNAME:EET
DTSTART:20211031T010000
END:STANDARD
BEGIN:DAYLIGHT
TZOFFSETFROM:+0200
TZOFFSETTO:+0300
TZNAME:EEST
DTSTART:20220327T010000
END:DAYLIGHT
BEGIN:STANDARD
TZOFFSETFROM:+0300
TZOFFSETTO:+0200
TZNAME:EET
DTSTART:20221030T010000
END:STANDARD
END:VTIMEZONE
BEGIN:VEVENT
DTSTART;VALUE=DATE:20210420
DTEND;VALUE=DATE:20210424
DTSTAMP:20260421T011357
CREATED:20210224T132423Z
LAST-MODIFIED:20210224T132423Z
UID:15350-1618876800-1619222399@healthcapitalhelsinki.fi
SUMMARY:NLSDays Digital 2021
DESCRIPTION:Organiser: SwedenBIO\nParticipation: Fee \nNordic Life Science Days is the largest Nordic partnering conference dedicated to the life science industry. The event offers excellent opportunities for digital face-to-face meetings\, and for presenting your company to investors and potential partners. The partnering platform is open and waiting for you to start sending meeting requests. \nThe virtual format enables the delivery of 2 days of live and on-demand educational content (20-21 April) as well as 4 days of partnering (20-23 April). \nHealth Capital Helsinki has the opportunity to offer a discount code for for attending NLSDays 2021. Interested? Contact: kaisu.sutinen@healthcapitalhelsinki.fi.
URL:https://healthcapitalhelsinki.fi/event/nlsdays-digital-2021/
CATEGORIES:Events
ATTACH;FMTTYPE=image/png:https://healthcapitalhelsinki.fi/wp-content/uploads/2021/02/logovenue_Landscape_Yellow_2021_digital.png
END:VEVENT
BEGIN:VEVENT
DTSTART;TZID=Europe/Helsinki:20210422T080000
DTEND;TZID=Europe/Helsinki:20210422T094500
DTSTAMP:20260421T011357
CREATED:20210224T124716Z
LAST-MODIFIED:20210224T124716Z
UID:15291-1619078400-1619084700@healthcapitalhelsinki.fi
SUMMARY:Miksi huipputeknologian ja digitalisaation innovaatioita pitää saada käyttöön ja miten se tehdään? (in Finnish)
DESCRIPTION:Järjestäjä: Health Capital Helsinki\, Helsinki Business Hub ja Sailab ‒ MedTech Finland ry \nHealth Capital Helsinki\, Helsinki Business Hub ja Sailab ‒ MedTech Finland ry yhdistävät voimansa avatakseen keskustelun terveysalan innovaatioista\, T&K-toiminnasta ja investoinneista. Me suomalaiset ja terveydenhuoltojärjestelmämme tarvitsemme uutta ajattelua. \nYhteistyössä järjestettävän seminaarisarjan kolmas osa\, Miksi huipputeknologian ja digitalisaation innovaatioita pitää saada käyttöön ja miten se tehdään?\, järjestetään torstaina 22.4.2021. \nKatso ohjelma tapahtumasivulta ja ilmoittaudu mukaan!
URL:https://healthcapitalhelsinki.fi/event/huipputeknologian-ja-digitalisaation-innovaatiot-kayttoon/
CATEGORIES:Events
ATTACH;FMTTYPE=image/jpeg:https://healthcapitalhelsinki.fi/wp-content/uploads/2021/02/Sailab-seminar-photo.jpg
END:VEVENT
BEGIN:VEVENT
DTSTART;TZID=Europe/Helsinki:20210422T100000
DTEND;TZID=Europe/Helsinki:20210422T120000
DTSTAMP:20260421T011357
CREATED:20210326T101812Z
LAST-MODIFIED:20210326T101812Z
UID:16449-1619085600-1619092800@healthcapitalhelsinki.fi
SUMMARY:Health DigiBooster: Smart hospitals seminar
DESCRIPTION:Organiser: OuluHealth with partners \nWould you like to know what a future hospital will look like and what technologies will be deployed to improve patient experience and the quality of care? Future healthcare is often defined as affordable\, personalized\, flexible and personalized. Will a future hospital meet these requirements? \nHealth DigiBooster aims at bringing the vision of a futuristic smart hospital a step closer. This event offers an opportunity to talk to healthcare professionals working in smart hospitals in the Netherlands and in Finland. Join the discussion\, ask your questions and learn about the most important practices that make a smart hospital.
URL:https://healthcapitalhelsinki.fi/event/health-digibooster-smart-hospitals-seminar/
CATEGORIES:Events
ATTACH;FMTTYPE=image/png:https://healthcapitalhelsinki.fi/wp-content/uploads/2021/03/Screenshot-2021-03-26-at-10.17.15.png
END:VEVENT
BEGIN:VEVENT
DTSTART;TZID=Europe/Helsinki:20210422T170000
DTEND;TZID=Europe/Helsinki:20210422T180000
DTSTAMP:20260421T011357
CREATED:20210330T124619Z
LAST-MODIFIED:20210330T124619Z
UID:16547-1619110800-1619114400@healthcapitalhelsinki.fi
SUMMARY:U.S. Reimbursement - Understanding Key Concepts to Maximize Business Succes
DESCRIPTION:Organiser: MedTechBridge \nUntil recently\, medical device companies were primarily focused on designing and earning regulatory clearance for their new technologies. While innovative design and FDA approval are important for market entry\, reimbursement is now a top concern for medical device executives\, their investors and other healthcare stakeholders. This presentation by Tom Hughes (Sr. Principal Advisor at Covance Medical Device & Diagnostics) will describe the key elements for reimbursement success; advice for developing an effective reimbursement strategy; and information about the importance of demonstrating clinical and economic value for new medical technology entering the U.S. market.
URL:https://healthcapitalhelsinki.fi/event/u-s-reimbursement-understanding-key-concepts-to-maximize-business-succes/
CATEGORIES:Events
ATTACH;FMTTYPE=image/jpeg:https://healthcapitalhelsinki.fi/wp-content/uploads/2020/12/MedtechBridge-180x180-1.jpg
END:VEVENT
END:VCALENDAR