BEGIN:VCALENDAR
VERSION:2.0
PRODID:-//Health Capital Helsinki - ECPv6.15.20//NONSGML v1.0//EN
CALSCALE:GREGORIAN
METHOD:PUBLISH
X-WR-CALNAME:Health Capital Helsinki
X-ORIGINAL-URL:https://healthcapitalhelsinki.fi
X-WR-CALDESC:Events for Health Capital Helsinki
REFRESH-INTERVAL;VALUE=DURATION:PT1H
X-Robots-Tag:noindex
X-PUBLISHED-TTL:PT1H
BEGIN:VTIMEZONE
TZID:Europe/Helsinki
BEGIN:DAYLIGHT
TZOFFSETFROM:+0200
TZOFFSETTO:+0300
TZNAME:EEST
DTSTART:20200329T010000
END:DAYLIGHT
BEGIN:STANDARD
TZOFFSETFROM:+0300
TZOFFSETTO:+0200
TZNAME:EET
DTSTART:20201025T010000
END:STANDARD
BEGIN:DAYLIGHT
TZOFFSETFROM:+0200
TZOFFSETTO:+0300
TZNAME:EEST
DTSTART:20210328T010000
END:DAYLIGHT
BEGIN:STANDARD
TZOFFSETFROM:+0300
TZOFFSETTO:+0200
TZNAME:EET
DTSTART:20211031T010000
END:STANDARD
BEGIN:DAYLIGHT
TZOFFSETFROM:+0200
TZOFFSETTO:+0300
TZNAME:EEST
DTSTART:20220327T010000
END:DAYLIGHT
BEGIN:STANDARD
TZOFFSETFROM:+0300
TZOFFSETTO:+0200
TZNAME:EET
DTSTART:20221030T010000
END:STANDARD
END:VTIMEZONE
BEGIN:VEVENT
DTSTART;VALUE=DATE:20210414
DTEND;VALUE=DATE:20210415
DTSTAMP:20260421T011357
CREATED:20210224T111904Z
LAST-MODIFIED:20210224T111904Z
UID:15257-1618358400-1618444799@healthcapitalhelsinki.fi
SUMMARY:Nordea Investor Speed Dating
DESCRIPTION:Startups/scaleups\, check out Nordea Investor Speed Dating events and apply asap: \n14/4 Startups looking for funding (seed funding) \n5/5 Scaleups looking for funding (A-round and beyond)
URL:https://healthcapitalhelsinki.fi/event/nordea-investor-speed-dating/
CATEGORIES:Opportunities
ATTACH;FMTTYPE=image/png:https://healthcapitalhelsinki.fi/wp-content/uploads/2021/02/Screenshot-2021-02-19-at-14.39.09.png
END:VEVENT
END:VCALENDAR