BEGIN:VCALENDAR
VERSION:2.0
PRODID:-//Health Capital Helsinki - ECPv6.15.20//NONSGML v1.0//EN
CALSCALE:GREGORIAN
METHOD:PUBLISH
X-ORIGINAL-URL:https://healthcapitalhelsinki.fi
X-WR-CALDESC:Events for Health Capital Helsinki
REFRESH-INTERVAL;VALUE=DURATION:PT1H
X-Robots-Tag:noindex
X-PUBLISHED-TTL:PT1H
BEGIN:VTIMEZONE
TZID:Europe/Helsinki
BEGIN:DAYLIGHT
TZOFFSETFROM:+0200
TZOFFSETTO:+0300
TZNAME:EEST
DTSTART:20200329T010000
END:DAYLIGHT
BEGIN:STANDARD
TZOFFSETFROM:+0300
TZOFFSETTO:+0200
TZNAME:EET
DTSTART:20201025T010000
END:STANDARD
BEGIN:DAYLIGHT
TZOFFSETFROM:+0200
TZOFFSETTO:+0300
TZNAME:EEST
DTSTART:20210328T010000
END:DAYLIGHT
BEGIN:STANDARD
TZOFFSETFROM:+0300
TZOFFSETTO:+0200
TZNAME:EET
DTSTART:20211031T010000
END:STANDARD
BEGIN:DAYLIGHT
TZOFFSETFROM:+0200
TZOFFSETTO:+0300
TZNAME:EEST
DTSTART:20220327T010000
END:DAYLIGHT
BEGIN:STANDARD
TZOFFSETFROM:+0300
TZOFFSETTO:+0200
TZNAME:EET
DTSTART:20221030T010000
END:STANDARD
END:VTIMEZONE
BEGIN:VEVENT
DTSTART;VALUE=DATE:20210406
DTEND;VALUE=DATE:20210407
DTSTAMP:20260421T011410
CREATED:20210324T115500Z
LAST-MODIFIED:20210324T115500Z
UID:16439-1617667200-1617753599@healthcapitalhelsinki.fi
SUMMARY:Interested in creating new medical technology? Apply for Biodesign Innovation Online Course
DESCRIPTION:Biodesign Innovation Online Course (3 ECTS) in May 2021 is your opportunity to learn how need-driven innovation and commercialization of medical technology (medtech) works. During the course\, together with your interdisciplinary team\, you will create a concept and a business case for your own medical technology. Your solution addresses a real and validated need in healthcare\, based on direct observations of problems. By the end of the course\, you will pitch your concept and medtech business case to real investors in a “shark tank”. \nRead on eligibility for the course and apply by 6 April!
URL:https://healthcapitalhelsinki.fi/event/interested-in-creating-new-medical-technology-apply-for-biodesign-innovation-online-course/
CATEGORIES:Opportunities
ATTACH;FMTTYPE=image/png:https://healthcapitalhelsinki.fi/wp-content/uploads/2021/03/Biodesign-Innovation-Online-Course.png
END:VEVENT
BEGIN:VEVENT
DTSTART;TZID=Europe/Helsinki:20210406T080000
DTEND;TZID=Europe/Helsinki:20210406T100000
DTSTAMP:20260421T011410
CREATED:20210302T144005Z
LAST-MODIFIED:20210302T144005Z
UID:15618-1617696000-1617703200@healthcapitalhelsinki.fi
SUMMARY:Health Tuesday: Future of clinical trials
DESCRIPTION:Organiser: Business Finland \nHow to bring new innovative medicines faster for the patients? \nOne thing is to increase the speed of clinical trials through utilization of digital technologies and platforms together with data science\, AI\, virtual trials and new study designs. Can we improve the health outcomes and reduce the burden on patients\, health care providers and overall costs by digitalizing clinical trials? Come and discuss how Finland can play a key role in this transformation because of high-quality health data sources\, openness for data sharing\, AI as a national priority and innovative mindset towards smarter solutions.
URL:https://healthcapitalhelsinki.fi/event/health-tuesday-future-of-clinical-trials/
CATEGORIES:Events
ATTACH;FMTTYPE=image/png:https://healthcapitalhelsinki.fi/wp-content/uploads/2021/02/BF.png
END:VEVENT
END:VCALENDAR