BEGIN:VCALENDAR
VERSION:2.0
PRODID:-//Health Capital Helsinki - ECPv6.15.20//NONSGML v1.0//EN
CALSCALE:GREGORIAN
METHOD:PUBLISH
X-WR-CALNAME:Health Capital Helsinki
X-ORIGINAL-URL:https://healthcapitalhelsinki.fi
X-WR-CALDESC:Events for Health Capital Helsinki
REFRESH-INTERVAL;VALUE=DURATION:PT1H
X-Robots-Tag:noindex
X-PUBLISHED-TTL:PT1H
BEGIN:VTIMEZONE
TZID:Europe/Helsinki
BEGIN:DAYLIGHT
TZOFFSETFROM:+0200
TZOFFSETTO:+0300
TZNAME:EEST
DTSTART:20200329T010000
END:DAYLIGHT
BEGIN:STANDARD
TZOFFSETFROM:+0300
TZOFFSETTO:+0200
TZNAME:EET
DTSTART:20201025T010000
END:STANDARD
BEGIN:DAYLIGHT
TZOFFSETFROM:+0200
TZOFFSETTO:+0300
TZNAME:EEST
DTSTART:20210328T010000
END:DAYLIGHT
BEGIN:STANDARD
TZOFFSETFROM:+0300
TZOFFSETTO:+0200
TZNAME:EET
DTSTART:20211031T010000
END:STANDARD
BEGIN:DAYLIGHT
TZOFFSETFROM:+0200
TZOFFSETTO:+0300
TZNAME:EEST
DTSTART:20220327T010000
END:DAYLIGHT
BEGIN:STANDARD
TZOFFSETFROM:+0300
TZOFFSETTO:+0200
TZNAME:EET
DTSTART:20221030T010000
END:STANDARD
END:VTIMEZONE
BEGIN:VEVENT
DTSTART;VALUE=DATE:20210325
DTEND;VALUE=DATE:20210330
DTSTAMP:20260421T023344
CREATED:20210310T135957Z
LAST-MODIFIED:20210310T135957Z
UID:16102-1616630400-1617062399@healthcapitalhelsinki.fi
SUMMARY:Accelerate Helsinki
DESCRIPTION:Organiser: City of Helsinki \nHow can companies\, entrepreneurs\, and cities together create sustainable growth and wellbeing in the future? Accelerate Helsinki is a series of events for companies\, partners and cities to co-create Helsinki towards becoming the world\’s most functional business environment. There are three events\, and one of them is in English.
URL:https://healthcapitalhelsinki.fi/event/accelerate-helsinki/
CATEGORIES:Events
ATTACH;FMTTYPE=image/jpeg:https://healthcapitalhelsinki.fi/wp-content/uploads/2021/03/Accelerate-Helsinki.jpg
END:VEVENT
BEGIN:VEVENT
DTSTART;TZID=Europe/Helsinki:20210325T173000
DTEND;TZID=Europe/Helsinki:20210325T190000
DTSTAMP:20260421T023344
CREATED:20210308T142852Z
LAST-MODIFIED:20210308T142852Z
UID:16085-1616693400-1616698800@healthcapitalhelsinki.fi
SUMMARY:Cybersecurity in Healthcare – The new era of digital health demands the highest level of cybersecurity
DESCRIPTION:Organiser: Helsinki Business Hub\, Amcham and the US Embassy of Finland \nProtecting the confidentiality\, integrity\, and availability of information has become extremely crucial in healthcare. Cybersecurity is a growing concern with new digital healthcare services. Our personal health and genomic data help the development of new treatments methods for cancer and rare diseases as well as for global pandemics. At the same time\, we need to protect that personal data from leaking. Digital solutions are available to improve healthcare processes\, the efficiency of treatment\, and communication. Health data privacy is a hot topic globally. \nIn this event\, experts from Finland and the US share their best practices on how to protect against threats and secure data privacy of medical records\, private and public networks as well as medical devices\, mobile devices\, and IoT.
URL:https://healthcapitalhelsinki.fi/event/cybersecurity-in-healthcare-the-new-era-of-digital-health-demands-the-highest-level-of-cybersecurity/
CATEGORIES:Events
ATTACH;FMTTYPE=image/png:https://healthcapitalhelsinki.fi/wp-content/uploads/2021/03/Screenshot-2021-03-08-at-14.27.45.png
END:VEVENT
END:VCALENDAR