BEGIN:VCALENDAR
VERSION:2.0
PRODID:-//Health Capital Helsinki - ECPv6.15.20//NONSGML v1.0//EN
CALSCALE:GREGORIAN
METHOD:PUBLISH
X-WR-CALNAME:Health Capital Helsinki
X-ORIGINAL-URL:https://healthcapitalhelsinki.fi
X-WR-CALDESC:Events for Health Capital Helsinki
REFRESH-INTERVAL;VALUE=DURATION:PT1H
X-Robots-Tag:noindex
X-PUBLISHED-TTL:PT1H
BEGIN:VTIMEZONE
TZID:Europe/Helsinki
BEGIN:DAYLIGHT
TZOFFSETFROM:+0200
TZOFFSETTO:+0300
TZNAME:EEST
DTSTART:20200329T010000
END:DAYLIGHT
BEGIN:STANDARD
TZOFFSETFROM:+0300
TZOFFSETTO:+0200
TZNAME:EET
DTSTART:20201025T010000
END:STANDARD
BEGIN:DAYLIGHT
TZOFFSETFROM:+0200
TZOFFSETTO:+0300
TZNAME:EEST
DTSTART:20210328T010000
END:DAYLIGHT
BEGIN:STANDARD
TZOFFSETFROM:+0300
TZOFFSETTO:+0200
TZNAME:EET
DTSTART:20211031T010000
END:STANDARD
BEGIN:DAYLIGHT
TZOFFSETFROM:+0200
TZOFFSETTO:+0300
TZNAME:EEST
DTSTART:20220327T010000
END:DAYLIGHT
BEGIN:STANDARD
TZOFFSETFROM:+0300
TZOFFSETTO:+0200
TZNAME:EET
DTSTART:20221030T010000
END:STANDARD
END:VTIMEZONE
BEGIN:VEVENT
DTSTART;VALUE=DATE:20210316
DTEND;VALUE=DATE:20210317
DTSTAMP:20260421T023344
CREATED:20210224T134046Z
LAST-MODIFIED:20210224T134046Z
UID:15361-1615852800-1615939199@healthcapitalhelsinki.fi
SUMMARY:EIT Health Catapult: fast-tracking Europe’s best start-ups
DESCRIPTION:Introducing a unique competition and training programme that showcases biotech\, medtech and digital health start-ups to leading experts and investors across Europe. The programme recognises and awards the very best business concepts\, fast-tracking start-ups to become part of the EIT Health Community of world-leading companies. \nThis one-of-a-kind\, rigorous and rewarding competition spotlights start-ups that offer best value to users and customers. Throughout the process\, start-ups receive intensive training as they build their credibility and visibility through pan-European exposure. Finalists are showcased at the EIT Health Summit as they go head-to-head for their share of the €210\,000 investment prize fund with the Audience Award Winner displayed on the New York Nasdaq Tower. \nApply by 16 March!
URL:https://healthcapitalhelsinki.fi/event/eit-health-catapult-fast-tracking-europes-best-start-ups/
CATEGORIES:Opportunities
ATTACH;FMTTYPE=image/jpeg:https://healthcapitalhelsinki.fi/wp-content/uploads/2021/02/eit-health.jpg
END:VEVENT
BEGIN:VEVENT
DTSTART;VALUE=DATE:20210316
DTEND;VALUE=DATE:20210317
DTSTAMP:20260421T023344
CREATED:20210301T121533Z
LAST-MODIFIED:20210301T121533Z
UID:15554-1615852800-1615939199@healthcapitalhelsinki.fi
SUMMARY:Are you ready take your business to the US? Join EIT Global Bridgehead Program
DESCRIPTION:Apply to the EIT Health Bridgehead Global Program\, the programme that brings together European health entrepreneurs who want to grow their business beyond their home market with US experts and accelerators who have the expertise and resources to make it happen. \nWhat will you get? \n\nA grant of €40\,000 to use with a network of handpicked and trusted Catalysers.\nA unique opportunity to be introduced to potential partners and access expert knowledge of the local health ecosystem in participating countries.\nProgress with setting up local sales teams\, getting distribution agreements signed-off\, developing pricing strategies and more\n\nWho can apply? \n\nCompanies with fewer than 250 full time employees that deliver transformative products and services in biotech\, medtech or digital health\nYou are selling your product or service in at least one market in Europe and ready to open up to a new market\nYour company is registered in Europe\n\nCreate an account on the application platform and apply by 16 March! \nVisit the website
URL:https://healthcapitalhelsinki.fi/event/are-you-ready-take-your-business-to-the-us-join-eit-global-bridgehead-program/
CATEGORIES:Opportunities
ATTACH;FMTTYPE=image/jpeg:https://healthcapitalhelsinki.fi/wp-content/uploads/2021/02/eit-health.jpg
END:VEVENT
BEGIN:VEVENT
DTSTART;VALUE=DATE:20210316
DTEND;VALUE=DATE:20210320
DTSTAMP:20260421T023344
CREATED:20210224T131127Z
LAST-MODIFIED:20210224T131127Z
UID:15327-1615852800-1616198399@healthcapitalhelsinki.fi
SUMMARY:European Healthtech Investment Forum 2021
DESCRIPTION:Organiser: Business Finland and TechTour \nBusiness Finland and Tech Tour will continue the successful European Healthtech Investment Forum event series in 2021 in digital format. New this year: access to see pitches from 40 preselected healthtech companies is free & open for viewing to all.
URL:https://healthcapitalhelsinki.fi/event/european-healthtech-investment-forum-2021/
CATEGORIES:Events
ATTACH;FMTTYPE=image/png:https://healthcapitalhelsinki.fi/wp-content/uploads/2021/02/Screenshot-2021-03-04-at-14.16.03.png
END:VEVENT
BEGIN:VEVENT
DTSTART;TZID=Europe/Helsinki:20210316T080000
DTEND;TZID=Europe/Helsinki:20210316T170000
DTSTAMP:20260421T023344
CREATED:20210301T121640Z
LAST-MODIFIED:20210301T121640Z
UID:15557-1615881600-1615914000@healthcapitalhelsinki.fi
SUMMARY:Start-ups Meet Pharma 2021
DESCRIPTION:Five challenges and five pharma companies ready to work with you! \nEIT Health and five pharma companies\, Abbott\, Takeda\, Merck\, Amgen and AstraZeneca\, invite start-ups to address the challenges they face with operational products and services. Check out the 2021 challenges in the link below! \nIf you are developing innovative technologies and services representing potential solutions for the selected challenges\, submit your application by 16 March.
URL:https://healthcapitalhelsinki.fi/event/start-ups-meet-pharma-2021/
CATEGORIES:Opportunities
ATTACH;FMTTYPE=image/jpeg:https://healthcapitalhelsinki.fi/wp-content/uploads/2021/02/eit-health.jpg
END:VEVENT
END:VCALENDAR